BEGIN:VCALENDAR
VERSION:2.0
PRODID:-//Nichols Hills United Methodist Church - ECPv6.15.20//NONSGML v1.0//EN
CALSCALE:GREGORIAN
METHOD:PUBLISH
X-WR-CALNAME:Nichols Hills United Methodist Church
X-ORIGINAL-URL:https://nicholshillsumc.org
X-WR-CALDESC:Events for Nichols Hills United Methodist Church
REFRESH-INTERVAL;VALUE=DURATION:PT1H
X-Robots-Tag:noindex
X-PUBLISHED-TTL:PT1H
BEGIN:VTIMEZONE
TZID:America/Denver
BEGIN:DAYLIGHT
TZOFFSETFROM:-0700
TZOFFSETTO:-0600
TZNAME:MDT
DTSTART:20240310T090000
END:DAYLIGHT
BEGIN:STANDARD
TZOFFSETFROM:-0600
TZOFFSETTO:-0700
TZNAME:MST
DTSTART:20241103T080000
END:STANDARD
BEGIN:DAYLIGHT
TZOFFSETFROM:-0700
TZOFFSETTO:-0600
TZNAME:MDT
DTSTART:20250309T090000
END:DAYLIGHT
BEGIN:STANDARD
TZOFFSETFROM:-0600
TZOFFSETTO:-0700
TZNAME:MST
DTSTART:20251102T080000
END:STANDARD
BEGIN:DAYLIGHT
TZOFFSETFROM:-0700
TZOFFSETTO:-0600
TZNAME:MDT
DTSTART:20260308T090000
END:DAYLIGHT
BEGIN:STANDARD
TZOFFSETFROM:-0600
TZOFFSETTO:-0700
TZNAME:MST
DTSTART:20261101T080000
END:STANDARD
END:VTIMEZONE
BEGIN:VTIMEZONE
TZID:UTC
BEGIN:STANDARD
TZOFFSETFROM:+0000
TZOFFSETTO:+0000
TZNAME:UTC
DTSTART:20240101T000000
END:STANDARD
END:VTIMEZONE
BEGIN:VEVENT
DTSTART;TZID=America/Denver:20251214T100000
DTEND;TZID=America/Denver:20251214T110000
DTSTAMP:20260423T073208
CREATED:20240903T193220Z
LAST-MODIFIED:20260325T161617Z
UID:10006302-1765706400-1765710000@nicholshillsumc.org
SUMMARY:Worship Service at 10:00 a.m.
DESCRIPTION:Join us for worship at 10:00 a.m.
URL:https://nicholshillsumc.org/event/worship-service-at-1000-a-m-2/2025-12-14/
LOCATION:Nichols Hills United Methodist Church\, 1212 Bedford Drive\, Nichols Hills\, OK\, 73116\, United States
END:VEVENT
BEGIN:VEVENT
DTSTART;TZID=America/Denver:20251214T090000
DTEND;TZID=America/Denver:20251214T100000
DTSTAMP:20260423T073208
CREATED:20240903T195039Z
LAST-MODIFIED:20260325T161714Z
UID:10006574-1765702800-1765706400@nicholshillsumc.org
SUMMARY:Sunday School
DESCRIPTION:Join us for Sunday School at 9:00 a.m.
URL:https://nicholshillsumc.org/event/sunday-school-2/2025-12-14/
LOCATION:Nichols Hills United Methodist Church\, 1212 Bedford Drive\, Nichols Hills\, OK\, 73116\, United States
END:VEVENT
BEGIN:VEVENT
DTSTART;TZID=America/Denver:20251213T190000
DTEND;TZID=America/Denver:20251213T210000
DTSTAMP:20260423T073208
CREATED:20250917T154327Z
LAST-MODIFIED:20251024T200447Z
UID:10007339-1765652400-1765659600@nicholshillsumc.org
SUMMARY:The Best Christmas Pageant Ever JR
DESCRIPTION:Buy your tickets here: \nhttps://buytickets.at/bedfordtheatrenicholshillsunitedmethodistchurch/1905873
URL:https://nicholshillsumc.org/event/the-best-christmas-pageant-ever-jr/2025-12-13/
LOCATION:Nichols Hills United Methodist Church\, 1212 Bedford Drive\, Nichols Hills\, OK\, 73116\, United States
ATTACH;FMTTYPE=image/jpeg:https://nicholshillsumc.org/wp-content/uploads/2025/09/TheBestChristmasPageantEverJV-Logo-Background-scaled.jpg
END:VEVENT
BEGIN:VEVENT
DTSTART;TZID=America/Denver:20251212T190000
DTEND;TZID=America/Denver:20251212T210000
DTSTAMP:20260423T073208
CREATED:20250917T154327Z
LAST-MODIFIED:20251024T200447Z
UID:10007338-1765566000-1765573200@nicholshillsumc.org
SUMMARY:The Best Christmas Pageant Ever JR
DESCRIPTION:Buy your tickets here: \nhttps://buytickets.at/bedfordtheatrenicholshillsunitedmethodistchurch/1905873
URL:https://nicholshillsumc.org/event/the-best-christmas-pageant-ever-jr/2025-12-12/
LOCATION:Nichols Hills United Methodist Church\, 1212 Bedford Drive\, Nichols Hills\, OK\, 73116\, United States
ATTACH;FMTTYPE=image/jpeg:https://nicholshillsumc.org/wp-content/uploads/2025/09/TheBestChristmasPageantEverJV-Logo-Background-scaled.jpg
END:VEVENT
BEGIN:VEVENT
DTSTART;TZID=America/Denver:20251208T183000
DTEND;TZID=America/Denver:20251208T193000
DTSTAMP:20260423T073208
CREATED:20240207T200544Z
LAST-MODIFIED:20240207T200544Z
UID:10005693-1765218600-1765222200@nicholshillsumc.org
SUMMARY:Scouts
DESCRIPTION:
URL:https://nicholshillsumc.org/event/scouts/2025-12-08/
LOCATION:Nichols Hills United Methodist Church\, 1212 Bedford Drive\, Nichols Hills\, OK\, 73116\, United States
END:VEVENT
BEGIN:VEVENT
DTSTART;TZID=America/Denver:20251207T100000
DTEND;TZID=America/Denver:20251207T110000
DTSTAMP:20260423T073208
CREATED:20240903T193220Z
LAST-MODIFIED:20260325T161617Z
UID:10006301-1765101600-1765105200@nicholshillsumc.org
SUMMARY:Worship Service at 10:00 a.m.
DESCRIPTION:Join us for worship at 10:00 a.m.
URL:https://nicholshillsumc.org/event/worship-service-at-1000-a-m-2/2025-12-07/
LOCATION:Nichols Hills United Methodist Church\, 1212 Bedford Drive\, Nichols Hills\, OK\, 73116\, United States
END:VEVENT
BEGIN:VEVENT
DTSTART;TZID=America/Denver:20251207T090000
DTEND;TZID=America/Denver:20251207T100000
DTSTAMP:20260423T073208
CREATED:20240903T195039Z
LAST-MODIFIED:20260325T161714Z
UID:10006573-1765098000-1765101600@nicholshillsumc.org
SUMMARY:Sunday School
DESCRIPTION:Join us for Sunday School at 9:00 a.m.
URL:https://nicholshillsumc.org/event/sunday-school-2/2025-12-07/
LOCATION:Nichols Hills United Methodist Church\, 1212 Bedford Drive\, Nichols Hills\, OK\, 73116\, United States
END:VEVENT
BEGIN:VEVENT
DTSTART;TZID=America/Denver:20251201T183000
DTEND;TZID=America/Denver:20251201T193000
DTSTAMP:20260423T073208
CREATED:20240207T200544Z
LAST-MODIFIED:20240207T200544Z
UID:10005692-1764613800-1764617400@nicholshillsumc.org
SUMMARY:Scouts
DESCRIPTION:
URL:https://nicholshillsumc.org/event/scouts/2025-12-01/
LOCATION:Nichols Hills United Methodist Church\, 1212 Bedford Drive\, Nichols Hills\, OK\, 73116\, United States
END:VEVENT
BEGIN:VEVENT
DTSTART;TZID=America/Denver:20251130T100000
DTEND;TZID=America/Denver:20251130T110000
DTSTAMP:20260423T073208
CREATED:20240903T193220Z
LAST-MODIFIED:20260325T161617Z
UID:10006300-1764496800-1764500400@nicholshillsumc.org
SUMMARY:Worship Service at 10:00 a.m.
DESCRIPTION:Join us for worship at 10:00 a.m.
URL:https://nicholshillsumc.org/event/worship-service-at-1000-a-m-2/2025-11-30/
LOCATION:Nichols Hills United Methodist Church\, 1212 Bedford Drive\, Nichols Hills\, OK\, 73116\, United States
END:VEVENT
BEGIN:VEVENT
DTSTART;TZID=America/Denver:20251130T090000
DTEND;TZID=America/Denver:20251130T100000
DTSTAMP:20260423T073208
CREATED:20240903T195039Z
LAST-MODIFIED:20260325T161714Z
UID:10006572-1764493200-1764496800@nicholshillsumc.org
SUMMARY:Sunday School
DESCRIPTION:Join us for Sunday School at 9:00 a.m.
URL:https://nicholshillsumc.org/event/sunday-school-2/2025-11-30/
LOCATION:Nichols Hills United Methodist Church\, 1212 Bedford Drive\, Nichols Hills\, OK\, 73116\, United States
END:VEVENT
BEGIN:VEVENT
DTSTART;TZID=America/Denver:20251124T183000
DTEND;TZID=America/Denver:20251124T193000
DTSTAMP:20260423T073208
CREATED:20240207T200544Z
LAST-MODIFIED:20240207T200544Z
UID:10005691-1764009000-1764012600@nicholshillsumc.org
SUMMARY:Scouts
DESCRIPTION:
URL:https://nicholshillsumc.org/event/scouts/2025-11-24/
LOCATION:Nichols Hills United Methodist Church\, 1212 Bedford Drive\, Nichols Hills\, OK\, 73116\, United States
END:VEVENT
BEGIN:VEVENT
DTSTART;TZID=America/Denver:20251123T100000
DTEND;TZID=America/Denver:20251123T110000
DTSTAMP:20260423T073208
CREATED:20240903T193220Z
LAST-MODIFIED:20260325T161617Z
UID:10006299-1763892000-1763895600@nicholshillsumc.org
SUMMARY:Worship Service at 10:00 a.m.
DESCRIPTION:Join us for worship at 10:00 a.m.
URL:https://nicholshillsumc.org/event/worship-service-at-1000-a-m-2/2025-11-23/
LOCATION:Nichols Hills United Methodist Church\, 1212 Bedford Drive\, Nichols Hills\, OK\, 73116\, United States
END:VEVENT
BEGIN:VEVENT
DTSTART;TZID=America/Denver:20251123T090000
DTEND;TZID=America/Denver:20251123T100000
DTSTAMP:20260423T073208
CREATED:20240903T195039Z
LAST-MODIFIED:20260325T161714Z
UID:10006571-1763888400-1763892000@nicholshillsumc.org
SUMMARY:Sunday School
DESCRIPTION:Join us for Sunday School at 9:00 a.m.
URL:https://nicholshillsumc.org/event/sunday-school-2/2025-11-23/
LOCATION:Nichols Hills United Methodist Church\, 1212 Bedford Drive\, Nichols Hills\, OK\, 73116\, United States
END:VEVENT
BEGIN:VEVENT
DTSTART;TZID=America/Denver:20251117T183000
DTEND;TZID=America/Denver:20251117T193000
DTSTAMP:20260423T073208
CREATED:20240207T200544Z
LAST-MODIFIED:20240207T200544Z
UID:10005690-1763404200-1763407800@nicholshillsumc.org
SUMMARY:Scouts
DESCRIPTION:
URL:https://nicholshillsumc.org/event/scouts/2025-11-17/
LOCATION:Nichols Hills United Methodist Church\, 1212 Bedford Drive\, Nichols Hills\, OK\, 73116\, United States
END:VEVENT
BEGIN:VEVENT
DTSTART;TZID=America/Denver:20251116T110000
DTEND;TZID=America/Denver:20251116T120000
DTSTAMP:20260423T073208
CREATED:20251106T200114Z
LAST-MODIFIED:20251106T200700Z
UID:10007343-1763290800-1763294400@nicholshillsumc.org
SUMMARY:Potluck Lunch
DESCRIPTION:Join us for a potluck lunch after worship. Bring your favorite dish to share!
URL:https://nicholshillsumc.org/event/potluck-lunch/
LOCATION:Nichols Hills United Methodist Church\, 1212 Bedford Drive\, Nichols Hills\, OK\, 73116\, United States
ATTACH;FMTTYPE=image/jpeg:https://nicholshillsumc.org/wp-content/uploads/2025/11/Potluck.jpg
END:VEVENT
BEGIN:VEVENT
DTSTART;TZID=America/Denver:20251116T100000
DTEND;TZID=America/Denver:20251116T110000
DTSTAMP:20260423T073208
CREATED:20240903T193220Z
LAST-MODIFIED:20260325T161617Z
UID:10006298-1763287200-1763290800@nicholshillsumc.org
SUMMARY:Worship Service at 10:00 a.m.
DESCRIPTION:Join us for worship at 10:00 a.m.
URL:https://nicholshillsumc.org/event/worship-service-at-1000-a-m-2/2025-11-16/
LOCATION:Nichols Hills United Methodist Church\, 1212 Bedford Drive\, Nichols Hills\, OK\, 73116\, United States
END:VEVENT
BEGIN:VEVENT
DTSTART;TZID=America/Denver:20251116T090000
DTEND;TZID=America/Denver:20251116T100000
DTSTAMP:20260423T073208
CREATED:20240903T195039Z
LAST-MODIFIED:20260325T161714Z
UID:10006570-1763283600-1763287200@nicholshillsumc.org
SUMMARY:Sunday School
DESCRIPTION:Join us for Sunday School at 9:00 a.m.
URL:https://nicholshillsumc.org/event/sunday-school-2/2025-11-16/
LOCATION:Nichols Hills United Methodist Church\, 1212 Bedford Drive\, Nichols Hills\, OK\, 73116\, United States
END:VEVENT
BEGIN:VEVENT
DTSTART;TZID=America/Denver:20251112T180000
DTEND;TZID=America/Denver:20251112T200000
DTSTAMP:20260423T073208
CREATED:20250821T202910Z
LAST-MODIFIED:20250821T203110Z
UID:10007278-1762970400-1762977600@nicholshillsumc.org
SUMMARY:Thrive Wednesday Night Ministry
DESCRIPTION:Join us for our Thrive ministry on Wednesday evenings. We will have dinner and rotating classes to choose from that will focus on Mind\, Body\, and Spirit. Call the church office at 405-842-1486 for more information.
URL:https://nicholshillsumc.org/event/thrive-wednesday-night-ministry-2/2025-11-12/
LOCATION:Nichols Hills United Methodist Church\, 1212 Bedford Drive\, Nichols Hills\, OK\, 73116\, United States
ATTACH;FMTTYPE=image/jpeg:https://nicholshillsumc.org/wp-content/uploads/2024/08/Thrive-Slide.jpg
END:VEVENT
BEGIN:VEVENT
DTSTART;TZID=America/Denver:20251110T183000
DTEND;TZID=America/Denver:20251110T193000
DTSTAMP:20260423T073208
CREATED:20240207T200544Z
LAST-MODIFIED:20240207T200544Z
UID:10005689-1762799400-1762803000@nicholshillsumc.org
SUMMARY:Scouts
DESCRIPTION:
URL:https://nicholshillsumc.org/event/scouts/2025-11-10/
LOCATION:Nichols Hills United Methodist Church\, 1212 Bedford Drive\, Nichols Hills\, OK\, 73116\, United States
END:VEVENT
BEGIN:VEVENT
DTSTART;TZID=America/Denver:20251109T100000
DTEND;TZID=America/Denver:20251109T110000
DTSTAMP:20260423T073208
CREATED:20240903T193220Z
LAST-MODIFIED:20260325T161617Z
UID:10006297-1762682400-1762686000@nicholshillsumc.org
SUMMARY:Worship Service at 10:00 a.m.
DESCRIPTION:Join us for worship at 10:00 a.m.
URL:https://nicholshillsumc.org/event/worship-service-at-1000-a-m-2/2025-11-09/
LOCATION:Nichols Hills United Methodist Church\, 1212 Bedford Drive\, Nichols Hills\, OK\, 73116\, United States
END:VEVENT
BEGIN:VEVENT
DTSTART;TZID=America/Denver:20251109T090000
DTEND;TZID=America/Denver:20251109T100000
DTSTAMP:20260423T073208
CREATED:20240903T195039Z
LAST-MODIFIED:20260325T161714Z
UID:10006569-1762678800-1762682400@nicholshillsumc.org
SUMMARY:Sunday School
DESCRIPTION:Join us for Sunday School at 9:00 a.m.
URL:https://nicholshillsumc.org/event/sunday-school-2/2025-11-09/
LOCATION:Nichols Hills United Methodist Church\, 1212 Bedford Drive\, Nichols Hills\, OK\, 73116\, United States
END:VEVENT
BEGIN:VEVENT
DTSTART;TZID=America/Denver:20251105T180000
DTEND;TZID=America/Denver:20251105T200000
DTSTAMP:20260423T073208
CREATED:20250821T202910Z
LAST-MODIFIED:20250821T203110Z
UID:10007277-1762365600-1762372800@nicholshillsumc.org
SUMMARY:Thrive Wednesday Night Ministry
DESCRIPTION:Join us for our Thrive ministry on Wednesday evenings. We will have dinner and rotating classes to choose from that will focus on Mind\, Body\, and Spirit. Call the church office at 405-842-1486 for more information.
URL:https://nicholshillsumc.org/event/thrive-wednesday-night-ministry-2/2025-11-05/
LOCATION:Nichols Hills United Methodist Church\, 1212 Bedford Drive\, Nichols Hills\, OK\, 73116\, United States
ATTACH;FMTTYPE=image/jpeg:https://nicholshillsumc.org/wp-content/uploads/2024/08/Thrive-Slide.jpg
END:VEVENT
BEGIN:VEVENT
DTSTART;TZID=America/Denver:20251103T183000
DTEND;TZID=America/Denver:20251103T193000
DTSTAMP:20260423T073208
CREATED:20240207T200544Z
LAST-MODIFIED:20240207T200544Z
UID:10005688-1762194600-1762198200@nicholshillsumc.org
SUMMARY:Scouts
DESCRIPTION:
URL:https://nicholshillsumc.org/event/scouts/2025-11-03/
LOCATION:Nichols Hills United Methodist Church\, 1212 Bedford Drive\, Nichols Hills\, OK\, 73116\, United States
END:VEVENT
BEGIN:VEVENT
DTSTART;VALUE=DATE:20251103
DTEND;VALUE=DATE:20251124
DTSTAMP:20260423T073208
CREATED:20251106T201514Z
LAST-MODIFIED:20251106T201514Z
UID:10007344-1762128000-1763942399@nicholshillsumc.org
SUMMARY:John Marshall Pantry Harvest Food Drive
DESCRIPTION:Grab a bag in the Narthex and fill it with the items listed. Return by Sunday\, November 23!
URL:https://nicholshillsumc.org/event/john-marshall-pantry-harvest-food-drive/
LOCATION:Nichols Hills United Methodist Church\, 1212 Bedford Drive\, Nichols Hills\, OK\, 73116\, United States
ATTACH;FMTTYPE=image/jpeg:https://nicholshillsumc.org/wp-content/uploads/2025/11/John-Marshall-Harvest-Food-Drive-scaled.jpg
END:VEVENT
BEGIN:VEVENT
DTSTART;TZID=America/Denver:20251102T100000
DTEND;TZID=America/Denver:20251102T110000
DTSTAMP:20260423T073208
CREATED:20240903T193220Z
LAST-MODIFIED:20260325T161617Z
UID:10006296-1762077600-1762081200@nicholshillsumc.org
SUMMARY:Worship Service at 10:00 a.m.
DESCRIPTION:Join us for worship at 10:00 a.m.
URL:https://nicholshillsumc.org/event/worship-service-at-1000-a-m-2/2025-11-02/
LOCATION:Nichols Hills United Methodist Church\, 1212 Bedford Drive\, Nichols Hills\, OK\, 73116\, United States
END:VEVENT
BEGIN:VEVENT
DTSTART;TZID=America/Denver:20251102T090000
DTEND;TZID=America/Denver:20251102T100000
DTSTAMP:20260423T073208
CREATED:20240903T195039Z
LAST-MODIFIED:20260325T161714Z
UID:10006568-1762074000-1762077600@nicholshillsumc.org
SUMMARY:Sunday School
DESCRIPTION:Join us for Sunday School at 9:00 a.m.
URL:https://nicholshillsumc.org/event/sunday-school-2/2025-11-02/
LOCATION:Nichols Hills United Methodist Church\, 1212 Bedford Drive\, Nichols Hills\, OK\, 73116\, United States
END:VEVENT
BEGIN:VEVENT
DTSTART;TZID=America/Denver:20251029T180000
DTEND;TZID=America/Denver:20251029T200000
DTSTAMP:20260423T073208
CREATED:20250821T202910Z
LAST-MODIFIED:20250821T203110Z
UID:10007276-1761760800-1761768000@nicholshillsumc.org
SUMMARY:Thrive Wednesday Night Ministry
DESCRIPTION:Join us for our Thrive ministry on Wednesday evenings. We will have dinner and rotating classes to choose from that will focus on Mind\, Body\, and Spirit. Call the church office at 405-842-1486 for more information.
URL:https://nicholshillsumc.org/event/thrive-wednesday-night-ministry-2/2025-10-29/
LOCATION:Nichols Hills United Methodist Church\, 1212 Bedford Drive\, Nichols Hills\, OK\, 73116\, United States
ATTACH;FMTTYPE=image/jpeg:https://nicholshillsumc.org/wp-content/uploads/2024/08/Thrive-Slide.jpg
END:VEVENT
BEGIN:VEVENT
DTSTART;TZID=America/Denver:20251027T183000
DTEND;TZID=America/Denver:20251027T193000
DTSTAMP:20260423T073208
CREATED:20240207T200544Z
LAST-MODIFIED:20240207T200544Z
UID:10005687-1761589800-1761593400@nicholshillsumc.org
SUMMARY:Scouts
DESCRIPTION:
URL:https://nicholshillsumc.org/event/scouts/2025-10-27/
LOCATION:Nichols Hills United Methodist Church\, 1212 Bedford Drive\, Nichols Hills\, OK\, 73116\, United States
END:VEVENT
BEGIN:VEVENT
DTSTART;TZID=UTC:20251026T160000
DTEND;TZID=UTC:20251026T180000
DTSTAMP:20260423T073208
CREATED:20151013T214428Z
LAST-MODIFIED:20250828T160658Z
UID:10002143-1761494400-1761501600@nicholshillsumc.org
SUMMARY:Trunk-or-Treat
DESCRIPTION:Join us for Trunk-or-Treat\, a bounce house\, hay ride\, hot dogs\, and brownies!
URL:https://nicholshillsumc.org/event/trunk-or-treat/
LOCATION:Nichols Hills United Methodist Church\, 1212 Bedford Drive\, Nichols Hills\, OK\, 73116\, United States
END:VEVENT
BEGIN:VEVENT
DTSTART;TZID=America/Denver:20251026T160000
DTEND;TZID=America/Denver:20251026T173000
DTSTAMP:20260423T073208
CREATED:20251024T195318Z
LAST-MODIFIED:20251024T195318Z
UID:10007342-1761494400-1761499800@nicholshillsumc.org
SUMMARY:Tent or Treat
DESCRIPTION:Join us for Tent or Treat! \nSunday\, Oct 26 from 4:00 – 5:30 p.m.
URL:https://nicholshillsumc.org/event/tent-or-treat/
LOCATION:Nichols Hills United Methodist Church\, 1212 Bedford Drive\, Nichols Hills\, OK\, 73116\, United States
ATTACH;FMTTYPE=image/jpeg:https://nicholshillsumc.org/wp-content/uploads/2025/10/Trunk-or-Treat-Logo.jpg
END:VEVENT
END:VCALENDAR