BEGIN:VCALENDAR
VERSION:2.0
PRODID:-//Nichols Hills United Methodist Church - ECPv6.15.20//NONSGML v1.0//EN
CALSCALE:GREGORIAN
METHOD:PUBLISH
X-WR-CALNAME:Nichols Hills United Methodist Church
X-ORIGINAL-URL:https://nicholshillsumc.org
X-WR-CALDESC:Events for Nichols Hills United Methodist Church
REFRESH-INTERVAL;VALUE=DURATION:PT1H
X-Robots-Tag:noindex
X-PUBLISHED-TTL:PT1H
BEGIN:VTIMEZONE
TZID:America/Denver
BEGIN:DAYLIGHT
TZOFFSETFROM:-0700
TZOFFSETTO:-0600
TZNAME:MDT
DTSTART:20250309T090000
END:DAYLIGHT
BEGIN:STANDARD
TZOFFSETFROM:-0600
TZOFFSETTO:-0700
TZNAME:MST
DTSTART:20251102T080000
END:STANDARD
BEGIN:DAYLIGHT
TZOFFSETFROM:-0700
TZOFFSETTO:-0600
TZNAME:MDT
DTSTART:20260308T090000
END:DAYLIGHT
BEGIN:STANDARD
TZOFFSETFROM:-0600
TZOFFSETTO:-0700
TZNAME:MST
DTSTART:20261101T080000
END:STANDARD
BEGIN:DAYLIGHT
TZOFFSETFROM:-0700
TZOFFSETTO:-0600
TZNAME:MDT
DTSTART:20270314T090000
END:DAYLIGHT
BEGIN:STANDARD
TZOFFSETFROM:-0600
TZOFFSETTO:-0700
TZNAME:MST
DTSTART:20271107T080000
END:STANDARD
END:VTIMEZONE
BEGIN:VEVENT
DTSTART;TZID=America/Denver:20260705T090000
DTEND;TZID=America/Denver:20260705T100000
DTSTAMP:20260421T123720
CREATED:20240903T195039Z
LAST-MODIFIED:20260325T161714Z
UID:10006603-1783242000-1783245600@nicholshillsumc.org
SUMMARY:Sunday School
DESCRIPTION:Join us for Sunday School at 9:00 a.m.
URL:https://nicholshillsumc.org/event/sunday-school-2/2026-07-05/
LOCATION:Nichols Hills United Methodist Church\, 1212 Bedford Drive\, Nichols Hills\, OK\, 73116\, United States
END:VEVENT
BEGIN:VEVENT
DTSTART;TZID=America/Denver:20260705T100000
DTEND;TZID=America/Denver:20260705T110000
DTSTAMP:20260421T123720
CREATED:20240903T193220Z
LAST-MODIFIED:20260325T161617Z
UID:10006331-1783245600-1783249200@nicholshillsumc.org
SUMMARY:Worship Service at 10:00 a.m.
DESCRIPTION:Join us for worship at 10:00 a.m.
URL:https://nicholshillsumc.org/event/worship-service-at-1000-a-m-2/2026-07-05/
LOCATION:Nichols Hills United Methodist Church\, 1212 Bedford Drive\, Nichols Hills\, OK\, 73116\, United States
END:VEVENT
BEGIN:VEVENT
DTSTART;TZID=America/Denver:20260706T183000
DTEND;TZID=America/Denver:20260706T193000
DTSTAMP:20260421T123720
CREATED:20240207T200544Z
LAST-MODIFIED:20240207T200544Z
UID:10005723-1783362600-1783366200@nicholshillsumc.org
SUMMARY:Scouts
DESCRIPTION:
URL:https://nicholshillsumc.org/event/scouts/2026-07-06/
LOCATION:Nichols Hills United Methodist Church\, 1212 Bedford Drive\, Nichols Hills\, OK\, 73116\, United States
END:VEVENT
BEGIN:VEVENT
DTSTART;TZID=America/Denver:20260712T090000
DTEND;TZID=America/Denver:20260712T100000
DTSTAMP:20260421T123720
CREATED:20240903T195039Z
LAST-MODIFIED:20260325T161714Z
UID:10006604-1783846800-1783850400@nicholshillsumc.org
SUMMARY:Sunday School
DESCRIPTION:Join us for Sunday School at 9:00 a.m.
URL:https://nicholshillsumc.org/event/sunday-school-2/2026-07-12/
LOCATION:Nichols Hills United Methodist Church\, 1212 Bedford Drive\, Nichols Hills\, OK\, 73116\, United States
END:VEVENT
BEGIN:VEVENT
DTSTART;TZID=America/Denver:20260712T100000
DTEND;TZID=America/Denver:20260712T110000
DTSTAMP:20260421T123720
CREATED:20240903T193220Z
LAST-MODIFIED:20260325T161617Z
UID:10006332-1783850400-1783854000@nicholshillsumc.org
SUMMARY:Worship Service at 10:00 a.m.
DESCRIPTION:Join us for worship at 10:00 a.m.
URL:https://nicholshillsumc.org/event/worship-service-at-1000-a-m-2/2026-07-12/
LOCATION:Nichols Hills United Methodist Church\, 1212 Bedford Drive\, Nichols Hills\, OK\, 73116\, United States
END:VEVENT
BEGIN:VEVENT
DTSTART;TZID=America/Denver:20260713T183000
DTEND;TZID=America/Denver:20260713T193000
DTSTAMP:20260421T123720
CREATED:20240207T200544Z
LAST-MODIFIED:20240207T200544Z
UID:10005724-1783967400-1783971000@nicholshillsumc.org
SUMMARY:Scouts
DESCRIPTION:
URL:https://nicholshillsumc.org/event/scouts/2026-07-13/
LOCATION:Nichols Hills United Methodist Church\, 1212 Bedford Drive\, Nichols Hills\, OK\, 73116\, United States
END:VEVENT
BEGIN:VEVENT
DTSTART;TZID=America/Denver:20260719T090000
DTEND;TZID=America/Denver:20260719T100000
DTSTAMP:20260421T123720
CREATED:20240903T195039Z
LAST-MODIFIED:20260325T161714Z
UID:10006605-1784451600-1784455200@nicholshillsumc.org
SUMMARY:Sunday School
DESCRIPTION:Join us for Sunday School at 9:00 a.m.
URL:https://nicholshillsumc.org/event/sunday-school-2/2026-07-19/
LOCATION:Nichols Hills United Methodist Church\, 1212 Bedford Drive\, Nichols Hills\, OK\, 73116\, United States
END:VEVENT
BEGIN:VEVENT
DTSTART;TZID=America/Denver:20260719T100000
DTEND;TZID=America/Denver:20260719T110000
DTSTAMP:20260421T123720
CREATED:20240903T193220Z
LAST-MODIFIED:20260325T161617Z
UID:10006333-1784455200-1784458800@nicholshillsumc.org
SUMMARY:Worship Service at 10:00 a.m.
DESCRIPTION:Join us for worship at 10:00 a.m.
URL:https://nicholshillsumc.org/event/worship-service-at-1000-a-m-2/2026-07-19/
LOCATION:Nichols Hills United Methodist Church\, 1212 Bedford Drive\, Nichols Hills\, OK\, 73116\, United States
END:VEVENT
BEGIN:VEVENT
DTSTART;TZID=America/Denver:20260720T183000
DTEND;TZID=America/Denver:20260720T193000
DTSTAMP:20260421T123720
CREATED:20240207T200544Z
LAST-MODIFIED:20240207T200544Z
UID:10005725-1784572200-1784575800@nicholshillsumc.org
SUMMARY:Scouts
DESCRIPTION:
URL:https://nicholshillsumc.org/event/scouts/2026-07-20/
LOCATION:Nichols Hills United Methodist Church\, 1212 Bedford Drive\, Nichols Hills\, OK\, 73116\, United States
END:VEVENT
BEGIN:VEVENT
DTSTART;TZID=America/Denver:20260726T090000
DTEND;TZID=America/Denver:20260726T100000
DTSTAMP:20260421T123720
CREATED:20240903T195039Z
LAST-MODIFIED:20260325T161714Z
UID:10006606-1785056400-1785060000@nicholshillsumc.org
SUMMARY:Sunday School
DESCRIPTION:Join us for Sunday School at 9:00 a.m.
URL:https://nicholshillsumc.org/event/sunday-school-2/2026-07-26/
LOCATION:Nichols Hills United Methodist Church\, 1212 Bedford Drive\, Nichols Hills\, OK\, 73116\, United States
END:VEVENT
BEGIN:VEVENT
DTSTART;TZID=America/Denver:20260726T100000
DTEND;TZID=America/Denver:20260726T110000
DTSTAMP:20260421T123720
CREATED:20240903T193220Z
LAST-MODIFIED:20260325T161617Z
UID:10006334-1785060000-1785063600@nicholshillsumc.org
SUMMARY:Worship Service at 10:00 a.m.
DESCRIPTION:Join us for worship at 10:00 a.m.
URL:https://nicholshillsumc.org/event/worship-service-at-1000-a-m-2/2026-07-26/
LOCATION:Nichols Hills United Methodist Church\, 1212 Bedford Drive\, Nichols Hills\, OK\, 73116\, United States
END:VEVENT
BEGIN:VEVENT
DTSTART;TZID=America/Denver:20260727T183000
DTEND;TZID=America/Denver:20260727T193000
DTSTAMP:20260421T123720
CREATED:20240207T200544Z
LAST-MODIFIED:20240207T200544Z
UID:10005726-1785177000-1785180600@nicholshillsumc.org
SUMMARY:Scouts
DESCRIPTION:
URL:https://nicholshillsumc.org/event/scouts/2026-07-27/
LOCATION:Nichols Hills United Methodist Church\, 1212 Bedford Drive\, Nichols Hills\, OK\, 73116\, United States
END:VEVENT
BEGIN:VEVENT
DTSTART;TZID=America/Denver:20260802T090000
DTEND;TZID=America/Denver:20260802T100000
DTSTAMP:20260421T123720
CREATED:20240903T195039Z
LAST-MODIFIED:20260325T161714Z
UID:10006607-1785661200-1785664800@nicholshillsumc.org
SUMMARY:Sunday School
DESCRIPTION:Join us for Sunday School at 9:00 a.m.
URL:https://nicholshillsumc.org/event/sunday-school-2/2026-08-02/
LOCATION:Nichols Hills United Methodist Church\, 1212 Bedford Drive\, Nichols Hills\, OK\, 73116\, United States
END:VEVENT
BEGIN:VEVENT
DTSTART;TZID=America/Denver:20260802T100000
DTEND;TZID=America/Denver:20260802T110000
DTSTAMP:20260421T123720
CREATED:20240903T193220Z
LAST-MODIFIED:20260325T161617Z
UID:10006335-1785664800-1785668400@nicholshillsumc.org
SUMMARY:Worship Service at 10:00 a.m.
DESCRIPTION:Join us for worship at 10:00 a.m.
URL:https://nicholshillsumc.org/event/worship-service-at-1000-a-m-2/2026-08-02/
LOCATION:Nichols Hills United Methodist Church\, 1212 Bedford Drive\, Nichols Hills\, OK\, 73116\, United States
END:VEVENT
BEGIN:VEVENT
DTSTART;TZID=America/Denver:20260803T183000
DTEND;TZID=America/Denver:20260803T193000
DTSTAMP:20260421T123720
CREATED:20240207T200544Z
LAST-MODIFIED:20240207T200544Z
UID:10005727-1785781800-1785785400@nicholshillsumc.org
SUMMARY:Scouts
DESCRIPTION:
URL:https://nicholshillsumc.org/event/scouts/2026-08-03/
LOCATION:Nichols Hills United Methodist Church\, 1212 Bedford Drive\, Nichols Hills\, OK\, 73116\, United States
END:VEVENT
BEGIN:VEVENT
DTSTART;TZID=America/Denver:20260809T090000
DTEND;TZID=America/Denver:20260809T100000
DTSTAMP:20260421T123720
CREATED:20240903T195039Z
LAST-MODIFIED:20260325T161714Z
UID:10006608-1786266000-1786269600@nicholshillsumc.org
SUMMARY:Sunday School
DESCRIPTION:Join us for Sunday School at 9:00 a.m.
URL:https://nicholshillsumc.org/event/sunday-school-2/2026-08-09/
LOCATION:Nichols Hills United Methodist Church\, 1212 Bedford Drive\, Nichols Hills\, OK\, 73116\, United States
END:VEVENT
BEGIN:VEVENT
DTSTART;TZID=America/Denver:20260809T100000
DTEND;TZID=America/Denver:20260809T110000
DTSTAMP:20260421T123720
CREATED:20240903T193220Z
LAST-MODIFIED:20260325T161617Z
UID:10006336-1786269600-1786273200@nicholshillsumc.org
SUMMARY:Worship Service at 10:00 a.m.
DESCRIPTION:Join us for worship at 10:00 a.m.
URL:https://nicholshillsumc.org/event/worship-service-at-1000-a-m-2/2026-08-09/
LOCATION:Nichols Hills United Methodist Church\, 1212 Bedford Drive\, Nichols Hills\, OK\, 73116\, United States
END:VEVENT
BEGIN:VEVENT
DTSTART;TZID=America/Denver:20260810T183000
DTEND;TZID=America/Denver:20260810T193000
DTSTAMP:20260421T123720
CREATED:20240207T200544Z
LAST-MODIFIED:20240207T200544Z
UID:10005728-1786386600-1786390200@nicholshillsumc.org
SUMMARY:Scouts
DESCRIPTION:
URL:https://nicholshillsumc.org/event/scouts/2026-08-10/
LOCATION:Nichols Hills United Methodist Church\, 1212 Bedford Drive\, Nichols Hills\, OK\, 73116\, United States
END:VEVENT
BEGIN:VEVENT
DTSTART;TZID=America/Denver:20260816T090000
DTEND;TZID=America/Denver:20260816T100000
DTSTAMP:20260421T123720
CREATED:20240903T195039Z
LAST-MODIFIED:20260325T161714Z
UID:10006609-1786870800-1786874400@nicholshillsumc.org
SUMMARY:Sunday School
DESCRIPTION:Join us for Sunday School at 9:00 a.m.
URL:https://nicholshillsumc.org/event/sunday-school-2/2026-08-16/
LOCATION:Nichols Hills United Methodist Church\, 1212 Bedford Drive\, Nichols Hills\, OK\, 73116\, United States
END:VEVENT
BEGIN:VEVENT
DTSTART;TZID=America/Denver:20260816T100000
DTEND;TZID=America/Denver:20260816T110000
DTSTAMP:20260421T123720
CREATED:20240903T193220Z
LAST-MODIFIED:20260325T161617Z
UID:10006337-1786874400-1786878000@nicholshillsumc.org
SUMMARY:Worship Service at 10:00 a.m.
DESCRIPTION:Join us for worship at 10:00 a.m.
URL:https://nicholshillsumc.org/event/worship-service-at-1000-a-m-2/2026-08-16/
LOCATION:Nichols Hills United Methodist Church\, 1212 Bedford Drive\, Nichols Hills\, OK\, 73116\, United States
END:VEVENT
BEGIN:VEVENT
DTSTART;TZID=America/Denver:20260817T183000
DTEND;TZID=America/Denver:20260817T193000
DTSTAMP:20260421T123720
CREATED:20240207T200544Z
LAST-MODIFIED:20240207T200544Z
UID:10005729-1786991400-1786995000@nicholshillsumc.org
SUMMARY:Scouts
DESCRIPTION:
URL:https://nicholshillsumc.org/event/scouts/2026-08-17/
LOCATION:Nichols Hills United Methodist Church\, 1212 Bedford Drive\, Nichols Hills\, OK\, 73116\, United States
END:VEVENT
BEGIN:VEVENT
DTSTART;TZID=America/Denver:20260823T090000
DTEND;TZID=America/Denver:20260823T100000
DTSTAMP:20260421T123720
CREATED:20240903T195039Z
LAST-MODIFIED:20260325T161714Z
UID:10006610-1787475600-1787479200@nicholshillsumc.org
SUMMARY:Sunday School
DESCRIPTION:Join us for Sunday School at 9:00 a.m.
URL:https://nicholshillsumc.org/event/sunday-school-2/2026-08-23/
LOCATION:Nichols Hills United Methodist Church\, 1212 Bedford Drive\, Nichols Hills\, OK\, 73116\, United States
END:VEVENT
BEGIN:VEVENT
DTSTART;TZID=America/Denver:20260823T100000
DTEND;TZID=America/Denver:20260823T110000
DTSTAMP:20260421T123720
CREATED:20240903T193220Z
LAST-MODIFIED:20260325T161617Z
UID:10006338-1787479200-1787482800@nicholshillsumc.org
SUMMARY:Worship Service at 10:00 a.m.
DESCRIPTION:Join us for worship at 10:00 a.m.
URL:https://nicholshillsumc.org/event/worship-service-at-1000-a-m-2/2026-08-23/
LOCATION:Nichols Hills United Methodist Church\, 1212 Bedford Drive\, Nichols Hills\, OK\, 73116\, United States
END:VEVENT
BEGIN:VEVENT
DTSTART;TZID=America/Denver:20260824T183000
DTEND;TZID=America/Denver:20260824T193000
DTSTAMP:20260421T123720
CREATED:20240207T200544Z
LAST-MODIFIED:20240207T200544Z
UID:10005730-1787596200-1787599800@nicholshillsumc.org
SUMMARY:Scouts
DESCRIPTION:
URL:https://nicholshillsumc.org/event/scouts/2026-08-24/
LOCATION:Nichols Hills United Methodist Church\, 1212 Bedford Drive\, Nichols Hills\, OK\, 73116\, United States
END:VEVENT
BEGIN:VEVENT
DTSTART;TZID=America/Denver:20260830T090000
DTEND;TZID=America/Denver:20260830T100000
DTSTAMP:20260421T123720
CREATED:20240903T195039Z
LAST-MODIFIED:20260325T161714Z
UID:10006611-1788080400-1788084000@nicholshillsumc.org
SUMMARY:Sunday School
DESCRIPTION:Join us for Sunday School at 9:00 a.m.
URL:https://nicholshillsumc.org/event/sunday-school-2/2026-08-30/
LOCATION:Nichols Hills United Methodist Church\, 1212 Bedford Drive\, Nichols Hills\, OK\, 73116\, United States
END:VEVENT
BEGIN:VEVENT
DTSTART;TZID=America/Denver:20260830T100000
DTEND;TZID=America/Denver:20260830T110000
DTSTAMP:20260421T123720
CREATED:20240903T193220Z
LAST-MODIFIED:20260325T161617Z
UID:10006339-1788084000-1788087600@nicholshillsumc.org
SUMMARY:Worship Service at 10:00 a.m.
DESCRIPTION:Join us for worship at 10:00 a.m.
URL:https://nicholshillsumc.org/event/worship-service-at-1000-a-m-2/2026-08-30/
LOCATION:Nichols Hills United Methodist Church\, 1212 Bedford Drive\, Nichols Hills\, OK\, 73116\, United States
END:VEVENT
BEGIN:VEVENT
DTSTART;TZID=America/Denver:20260831T183000
DTEND;TZID=America/Denver:20260831T193000
DTSTAMP:20260421T123720
CREATED:20240207T200544Z
LAST-MODIFIED:20240207T200544Z
UID:10005731-1788201000-1788204600@nicholshillsumc.org
SUMMARY:Scouts
DESCRIPTION:
URL:https://nicholshillsumc.org/event/scouts/2026-08-31/
LOCATION:Nichols Hills United Methodist Church\, 1212 Bedford Drive\, Nichols Hills\, OK\, 73116\, United States
END:VEVENT
BEGIN:VEVENT
DTSTART;TZID=America/Denver:20260906T090000
DTEND;TZID=America/Denver:20260906T100000
DTSTAMP:20260421T123720
CREATED:20240903T195039Z
LAST-MODIFIED:20260325T161714Z
UID:10006612-1788685200-1788688800@nicholshillsumc.org
SUMMARY:Sunday School
DESCRIPTION:Join us for Sunday School at 9:00 a.m.
URL:https://nicholshillsumc.org/event/sunday-school-2/2026-09-06/
LOCATION:Nichols Hills United Methodist Church\, 1212 Bedford Drive\, Nichols Hills\, OK\, 73116\, United States
END:VEVENT
BEGIN:VEVENT
DTSTART;TZID=America/Denver:20260906T100000
DTEND;TZID=America/Denver:20260906T110000
DTSTAMP:20260421T123720
CREATED:20240903T193220Z
LAST-MODIFIED:20260325T161617Z
UID:10006340-1788688800-1788692400@nicholshillsumc.org
SUMMARY:Worship Service at 10:00 a.m.
DESCRIPTION:Join us for worship at 10:00 a.m.
URL:https://nicholshillsumc.org/event/worship-service-at-1000-a-m-2/2026-09-06/
LOCATION:Nichols Hills United Methodist Church\, 1212 Bedford Drive\, Nichols Hills\, OK\, 73116\, United States
END:VEVENT
BEGIN:VEVENT
DTSTART;TZID=America/Denver:20260907T183000
DTEND;TZID=America/Denver:20260907T193000
DTSTAMP:20260421T123720
CREATED:20240207T200544Z
LAST-MODIFIED:20240207T200544Z
UID:10005732-1788805800-1788809400@nicholshillsumc.org
SUMMARY:Scouts
DESCRIPTION:
URL:https://nicholshillsumc.org/event/scouts/2026-09-07/
LOCATION:Nichols Hills United Methodist Church\, 1212 Bedford Drive\, Nichols Hills\, OK\, 73116\, United States
END:VEVENT
END:VCALENDAR