BEGIN:VCALENDAR
VERSION:2.0
PRODID:-//Nichols Hills United Methodist Church - ECPv6.15.20//NONSGML v1.0//EN
CALSCALE:GREGORIAN
METHOD:PUBLISH
X-WR-CALNAME:Nichols Hills United Methodist Church
X-ORIGINAL-URL:https://nicholshillsumc.org
X-WR-CALDESC:Events for Nichols Hills United Methodist Church
REFRESH-INTERVAL;VALUE=DURATION:PT1H
X-Robots-Tag:noindex
X-PUBLISHED-TTL:PT1H
BEGIN:VTIMEZONE
TZID:UTC
BEGIN:STANDARD
TZOFFSETFROM:+0000
TZOFFSETTO:+0000
TZNAME:UTC
DTSTART:20180101T000000
END:STANDARD
END:VTIMEZONE
BEGIN:VTIMEZONE
TZID:America/Denver
BEGIN:DAYLIGHT
TZOFFSETFROM:-0700
TZOFFSETTO:-0600
TZNAME:MDT
DTSTART:20220313T090000
END:DAYLIGHT
BEGIN:STANDARD
TZOFFSETFROM:-0600
TZOFFSETTO:-0700
TZNAME:MST
DTSTART:20221106T080000
END:STANDARD
BEGIN:DAYLIGHT
TZOFFSETFROM:-0700
TZOFFSETTO:-0600
TZNAME:MDT
DTSTART:20230312T090000
END:DAYLIGHT
BEGIN:STANDARD
TZOFFSETFROM:-0600
TZOFFSETTO:-0700
TZNAME:MST
DTSTART:20231105T080000
END:STANDARD
BEGIN:DAYLIGHT
TZOFFSETFROM:-0700
TZOFFSETTO:-0600
TZNAME:MDT
DTSTART:20240310T090000
END:DAYLIGHT
BEGIN:STANDARD
TZOFFSETFROM:-0600
TZOFFSETTO:-0700
TZNAME:MST
DTSTART:20241103T080000
END:STANDARD
END:VTIMEZONE
BEGIN:VEVENT
DTSTART;TZID=UTC:20240115T080000
DTEND;TZID=UTC:20240115T170000
DTSTAMP:20260425T060002
CREATED:20151103T031254Z
LAST-MODIFIED:20240108T221203Z
UID:10002160-1705305600-1705338000@nicholshillsumc.org
SUMMARY:The Learning Center Closed
DESCRIPTION:
URL:https://nicholshillsumc.org/event/the-learning-center-closed/
LOCATION:Nichols Hills United Methodist Church\, 1212 Bedford Drive\, Nichols Hills\, OK\, 73116\, United States
END:VEVENT
BEGIN:VEVENT
DTSTART;TZID=America/Denver:20231224T100000
DTEND;TZID=America/Denver:20231224T110000
DTSTAMP:20260425T060002
CREATED:20231120T201449Z
LAST-MODIFIED:20231120T201511Z
UID:10005332-1703412000-1703415600@nicholshillsumc.org
SUMMARY:Christmas Eve Morning Worship
DESCRIPTION:We will have one worship service on Christmas Eve\, Sunday\, December 24 at 10:00 a.m. There will be a coffee and donut hour at 9:00 a.m.
URL:https://nicholshillsumc.org/event/christmas-eve-morning-worship/
LOCATION:Nichols Hills United Methodist Church\, 1212 Bedford Drive\, Nichols Hills\, OK\, 73116\, United States
ATTACH;FMTTYPE=image/jpeg:https://nicholshillsumc.org/wp-content/uploads/2023/11/Christmas-Eve-Service-Schedule-2023.jpg
END:VEVENT
BEGIN:VEVENT
DTSTART;TZID=UTC:20231130T173000
DTEND;TZID=UTC:20231130T183000
DTSTAMP:20260425T060002
CREATED:20150618T225844Z
LAST-MODIFIED:20231116T153733Z
UID:10002107-1701365400-1701369000@nicholshillsumc.org
SUMMARY:Finance Committee Meeting
DESCRIPTION:
URL:https://nicholshillsumc.org/event/finance-meeting/
LOCATION:Nichols Hills United Methodist Church\, 1212 Bedford Drive\, Nichols Hills\, OK\, 73116\, United States
END:VEVENT
BEGIN:VEVENT
DTSTART;TZID=UTC:20231029T100000
DTEND;TZID=UTC:20231029T120000
DTSTAMP:20260425T060002
CREATED:20150527T224159Z
LAST-MODIFIED:20231003T205318Z
UID:10002098-1698573600-1698580800@nicholshillsumc.org
SUMMARY:75th Anniversary Worship Service at 10:00 a.m.
DESCRIPTION:Join us in person or online for our 75th Anniversary worship service at 10:00 a.m.  Online at facebook.com/nicholshillsumc/
URL:https://nicholshillsumc.org/event/worship-3/
LOCATION:Nichols Hills United Methodist Church\, 1212 Bedford Drive\, Nichols Hills\, OK\, 73116\, United States
END:VEVENT
BEGIN:VEVENT
DTSTART;TZID=UTC:20230308T183000
DTEND;TZID=UTC:20230308T193000
DTSTAMP:20260425T060002
CREATED:20150618T225924Z
LAST-MODIFIED:20230228T172536Z
UID:10002108-1678300200-1678303800@nicholshillsumc.org
SUMMARY:Church Conference Vote
DESCRIPTION:Church Conference Vote will be in the Fellowship Hall
URL:https://nicholshillsumc.org/event/church-council-meeting/
LOCATION:Nichols Hills United Methodist Church\, 1212 Bedford Drive\, Nichols Hills\, OK\, 73116\, United States
END:VEVENT
BEGIN:VEVENT
DTSTART;VALUE=DATE:20221226
DTEND;VALUE=DATE:20221228
DTSTAMP:20260425T060002
CREATED:20150730T221230Z
LAST-MODIFIED:20241125T213811Z
UID:10002118-1672012800-1672185599@nicholshillsumc.org
SUMMARY:Church Offices Closed
DESCRIPTION:In observance of Christmas\, Nichols Hills United Methodist Church offices will be closed December 25.
URL:https://nicholshillsumc.org/event/church-offices-and-the-learning-center-closed/
LOCATION:Nichols Hills United Methodist Church\, 1212 Bedford Drive\, Nichols Hills\, OK\, 73116\, United States
END:VEVENT
BEGIN:VEVENT
DTSTART;TZID=UTC:20210920T173000
DTEND;TZID=UTC:20210920T180000
DTSTAMP:20260425T060002
CREATED:20160105T054904Z
LAST-MODIFIED:20210917T204714Z
UID:10002163-1632159000-1632160800@nicholshillsumc.org
SUMMARY:Endowment Committee Meeting
DESCRIPTION:Endowment Committee Meeting in the Fellowship Hall.
URL:https://nicholshillsumc.org/event/endowment-committee-meeting/
LOCATION:Nichols Hills United Methodist Church\, 1212 Bedford Drive\, Nichols Hills\, OK\, 73116\, United States
END:VEVENT
BEGIN:VEVENT
DTSTART;TZID=UTC:20210815T170000
DTEND;TZID=UTC:20210815T170000
DTSTAMP:20260425T060002
CREATED:20150730T222806Z
LAST-MODIFIED:20210806T202443Z
UID:10002121-1629046800-1629046800@nicholshillsumc.org
SUMMARY:Block Party
DESCRIPTION:Nichols Hills United Methodist Church is having a Block Party! It will be a fun evening full of fellowship\, laughter\, face-painting\, games\, hot dogs\, and homemade ice cream. Everyone is invited! \n 
URL:https://nicholshillsumc.org/event/block-party/
LOCATION:Nichols Hills United Methodist Church\, 1212 Bedford Drive\, Nichols Hills\, OK\, 73116\, United States
END:VEVENT
BEGIN:VEVENT
DTSTART;TZID=UTC:20201104T183000
DTEND;TZID=UTC:20201104T203000
DTSTAMP:20260425T060002
CREATED:20150829T013228Z
LAST-MODIFIED:20201001T013711Z
UID:10002128-1604514600-1604521800@nicholshillsumc.org
SUMMARY:Chancel Choir Rehearsal
DESCRIPTION:
URL:https://nicholshillsumc.org/event/chancel-choir-rehearsal-3/
LOCATION:Nichols Hills United Methodist Church\, 1212 Bedford Drive\, Nichols Hills\, OK\, 73116\, United States
END:VEVENT
BEGIN:VEVENT
DTSTART;TZID=UTC:20201104T180000
DTEND;TZID=UTC:20201104T190000
DTSTAMP:20260425T060002
CREATED:20150730T223207Z
LAST-MODIFIED:20201001T012433Z
UID:10002122-1604512800-1604516400@nicholshillsumc.org
SUMMARY:Nichols Thrills - Wednesday Night Meal and Small Groups
DESCRIPTION:Nichols Thrills is a mid-week opportunity to meet new friends and grow in your relationship with God. \n 
URL:https://nicholshillsumc.org/event/nichols-thrills-wednesday-night-meal-and-small-groups/
LOCATION:Nichols Hills United Methodist Church\, 1212 Bedford Drive\, Nichols Hills\, OK\, 73116\, United States
END:VEVENT
BEGIN:VEVENT
DTSTART;TZID=UTC:20201028T193000
DTEND;TZID=UTC:20201028T203000
DTSTAMP:20260425T060002
CREATED:20150829T013314Z
LAST-MODIFIED:20201001T013557Z
UID:10002129-1603913400-1603917000@nicholshillsumc.org
SUMMARY:Chancel Choir Rehearsal
DESCRIPTION:
URL:https://nicholshillsumc.org/event/chancel-choir-rehearsal-4/
LOCATION:Nichols Hills United Methodist Church\, 1212 Bedford Drive\, Nichols Hills\, OK\, 73116\, United States
END:VEVENT
BEGIN:VEVENT
DTSTART;TZID=UTC:20201028T180000
DTEND;TZID=UTC:20201028T190000
DTSTAMP:20260425T060002
CREATED:20150730T223207Z
LAST-MODIFIED:20201001T012315Z
UID:10002612-1603908000-1603911600@nicholshillsumc.org
SUMMARY:Nichols Thrills - Wednesday Night Meal and Small Groups
DESCRIPTION:Nichols Thrills is a mid-week opportunity to meet new friends and grow in your relationship with God. \n 
URL:https://nicholshillsumc.org/event/nichols-thrills-wednesday-night-meal-and-small-groups-5/
LOCATION:Nichols Hills United Methodist Church\, 1212 Bedford Drive\, Nichols Hills\, OK\, 73116\, United States
END:VEVENT
BEGIN:VEVENT
DTSTART;TZID=UTC:20201021T183000
DTEND;TZID=UTC:20201021T203000
DTSTAMP:20260425T060002
CREATED:20150829T013401Z
LAST-MODIFIED:20201001T013434Z
UID:10002130-1603305000-1603312200@nicholshillsumc.org
SUMMARY:Chancel Choir Rehearsal
DESCRIPTION:
URL:https://nicholshillsumc.org/event/chancel-choir-rehearsal-5/
LOCATION:Nichols Hills United Methodist Church\, 1212 Bedford Drive\, Nichols Hills\, OK\, 73116\, United States
END:VEVENT
BEGIN:VEVENT
DTSTART;TZID=UTC:20201021T180000
DTEND;TZID=UTC:20201021T190000
DTSTAMP:20260425T060002
CREATED:20150730T223207Z
LAST-MODIFIED:20201001T012514Z
UID:10002613-1603303200-1603306800@nicholshillsumc.org
SUMMARY:Nichols Thrills - Wednesday Night Meal and Small Groups
DESCRIPTION:Nichols Thrills is a mid-week opportunity to meet new friends and grow in your relationship with God. \n 
URL:https://nicholshillsumc.org/event/nichols-thrills-wednesday-night-meal-and-small-groups-5-2/
LOCATION:Nichols Hills United Methodist Church\, 1212 Bedford Drive\, Nichols Hills\, OK\, 73116\, United States
END:VEVENT
BEGIN:VEVENT
DTSTART;TZID=UTC:20201014T183000
DTEND;TZID=UTC:20201014T203000
DTSTAMP:20260425T060002
CREATED:20180405T013107Z
LAST-MODIFIED:20201001T013340Z
UID:10002127-1602700200-1602707400@nicholshillsumc.org
SUMMARY:Chancel Choir Rehearsal
DESCRIPTION:
URL:https://nicholshillsumc.org/event/chancel-choir-rehearsal-2/
LOCATION:Nichols Hills United Methodist Church\, 1212 Bedford Drive\, Nichols Hills\, OK\, 73116\, United States
END:VEVENT
BEGIN:VEVENT
DTSTART;TZID=UTC:20201014T180000
DTEND;TZID=UTC:20201014T190000
DTSTAMP:20260425T060002
CREATED:20150829T020700Z
LAST-MODIFIED:20201001T011648Z
UID:10002135-1602698400-1602702000@nicholshillsumc.org
SUMMARY:Nichols Thrills - Wednesday Night Meal and Small Groups
DESCRIPTION:Nichols Thrills is a mid-week opportunity to meet new friends and grow in your relationship with God. \n 
URL:https://nicholshillsumc.org/event/nichols-thrills-wednesday-night-meal-and-small-groups-2/
LOCATION:Nichols Hills United Methodist Church\, 1212 Bedford Drive\, Nichols Hills\, OK\, 73116\, United States
END:VEVENT
BEGIN:VEVENT
DTSTART;TZID=UTC:20201013T173000
DTEND;TZID=UTC:20201013T173000
DTSTAMP:20260425T060002
CREATED:20150610T215355Z
LAST-MODIFIED:20200828T025321Z
UID:10002104-1602610200-1602610200@nicholshillsumc.org
SUMMARY:SPRC Meeting
DESCRIPTION:
URL:https://nicholshillsumc.org/event/sprc-meeting/
LOCATION:Nichols Hills United Methodist Church\, 1212 Bedford Drive\, Nichols Hills\, OK\, 73116\, United States
END:VEVENT
BEGIN:VEVENT
DTSTART;TZID=UTC:20201007T180000
DTEND;TZID=UTC:20201007T190000
DTSTAMP:20260425T060002
CREATED:20150829T020740Z
LAST-MODIFIED:20201001T011403Z
UID:10002136-1602093600-1602097200@nicholshillsumc.org
SUMMARY:Nichols Thrills - Wednesday Night Meal and Small Groups
DESCRIPTION:Nichols Thrills is a mid-week opportunity to meet new friends and grow in your relationship with God.
URL:https://nicholshillsumc.org/event/nichols-thrills-wednesday-night-meal-and-small-groups-3/
LOCATION:Nichols Hills United Methodist Church\, 1212 Bedford Drive\, Nichols Hills\, OK\, 73116\, United States
END:VEVENT
BEGIN:VEVENT
DTSTART;TZID=UTC:20200830T105000
DTEND;TZID=UTC:20200830T120000
DTSTAMP:20260425T060002
CREATED:20150514T023652Z
LAST-MODIFIED:20200828T024354Z
UID:10002095-1598784600-1598788800@nicholshillsumc.org
SUMMARY:Worship
DESCRIPTION:
URL:https://nicholshillsumc.org/event/worship-2/
LOCATION:Nichols Hills United Methodist Church\, 1212 Bedford Drive\, Nichols Hills\, OK\, 73116\, United States
END:VEVENT
BEGIN:VEVENT
DTSTART;TZID=UTC:20200408T193000
DTEND;TZID=UTC:20200408T203000
DTSTAMP:20260425T060002
CREATED:20150505T033639Z
LAST-MODIFIED:20200226T041759Z
UID:10002094-1586374200-1586377800@nicholshillsumc.org
SUMMARY:Chancel Choir Rehearsal
DESCRIPTION:Come explore worship through music! Join the choir each Wednesday at 7:30 p.m. in the Choir Room.
URL:https://nicholshillsumc.org/event/chancel-choir-rehearsal/
LOCATION:Nichols Hills United Methodist Church\, 1212 Bedford Drive\, Nichols Hills\, OK\, 73116\, United States
END:VEVENT
BEGIN:VEVENT
DTSTART;TZID=UTC:20200302T160000
DTEND;TZID=UTC:20200302T170000
DTSTAMP:20260425T060002
CREATED:20150505T032822Z
LAST-MODIFIED:20200114T034053Z
UID:10002090-1583164800-1583168400@nicholshillsumc.org
SUMMARY:Care Committee Meeting
DESCRIPTION:Join us for our Care Committee meeting! Everyone is welcome!
URL:https://nicholshillsumc.org/event/care-committee-meeting/
LOCATION:Nichols Hills United Methodist Church\, 1212 Bedford Drive\, Nichols Hills\, OK\, 73116\, United States
END:VEVENT
BEGIN:VEVENT
DTSTART;TZID=UTC:20200202T121500
DTEND;TZID=UTC:20200202T151500
DTSTAMP:20260425T060002
CREATED:20150505T033456Z
LAST-MODIFIED:20200201T024212Z
UID:10002093-1580645700-1580656500@nicholshillsumc.org
SUMMARY:Altar Guild Meeting
DESCRIPTION:
URL:https://nicholshillsumc.org/event/altar-guild-meeting/
LOCATION:Nichols Hills United Methodist Church\, 1212 Bedford Drive\, Nichols Hills\, OK\, 73116\, United States
END:VEVENT
BEGIN:VEVENT
DTSTART;TZID=UTC:20191117T110000
DTEND;TZID=UTC:20191117T120000
DTSTAMP:20260425T060002
CREATED:20151103T031124Z
LAST-MODIFIED:20191112T043934Z
UID:10002159-1573988400-1573992000@nicholshillsumc.org
SUMMARY:Harvest Dinner
DESCRIPTION:
URL:https://nicholshillsumc.org/event/harvest-dinner/
LOCATION:Nichols Hills United Methodist Church\, 1212 Bedford Drive\, Nichols Hills\, OK\, 73116\, United States
END:VEVENT
BEGIN:VEVENT
DTSTART;TZID=UTC:20190806T193000
DTEND;TZID=UTC:20190806T210000
DTSTAMP:20260425T060002
CREATED:20150829T013939Z
LAST-MODIFIED:20190723T005147Z
UID:10002133-1565119800-1565125200@nicholshillsumc.org
SUMMARY:John Marshall Breakfast
DESCRIPTION:
URL:https://nicholshillsumc.org/event/criminal-justice-and-mercy-ministries/
LOCATION:Nichols Hills United Methodist Church\, 1212 Bedford Drive\, Nichols Hills\, OK\, 73116\, United States
END:VEVENT
BEGIN:VEVENT
DTSTART;TZID=UTC:20190728T121500
DTEND;TZID=UTC:20190728T131500
DTSTAMP:20260425T060002
CREATED:20150622T222805Z
LAST-MODIFIED:20190723T002327Z
UID:10002110-1564316100-1564319700@nicholshillsumc.org
SUMMARY:Missions Meeting
DESCRIPTION:
URL:https://nicholshillsumc.org/event/missions-meeting/
LOCATION:Nichols Hills United Methodist Church\, 1212 Bedford Drive\, Nichols Hills\, OK\, 73116\, United States
END:VEVENT
BEGIN:VEVENT
DTSTART;TZID=UTC:20190614T090000
DTEND;TZID=UTC:20190614T120000
DTSTAMP:20260425T060002
CREATED:20180608T213857Z
LAST-MODIFIED:20190607T222019Z
UID:10002620-1560502800-1560513600@nicholshillsumc.org
SUMMARY:Sports Camp
DESCRIPTION:Sports Camp\n\nJune 10 – 14 @ 9:00 am – 12:00 pm\n\n\n\nNichols Hills United Methodist Church Sports Camp \nJune 10-14 from 9:00 a.m. – Noon \n$75 per child \n4 year olds through 6th graders \n Children may participate in Basketball\, Cheerleading\, Soccer\, or Team 45 (which teaches the fundamentals of motion\, rhythm\, and balance development to 4 and 5 year-olds) all while experiencing God’s love! Please click HERE to register or call the church office at 405-842-1486 for any questions. \nNichols Hills United Methodist Church / 1212 Bedford Drive / Nichols Hills\, OK  73116 / 405-842-1486 / www.nicholshillsumc.org
URL:https://nicholshillsumc.org/event/sports-camp/
LOCATION:Nichols Hills United Methodist Church\, 1212 Bedford Drive\, Nichols Hills\, OK\, 73116\, United States
END:VEVENT
BEGIN:VEVENT
DTSTART;TZID=UTC:20190613T090000
DTEND;TZID=UTC:20190613T120000
DTSTAMP:20260425T060002
CREATED:20180608T214158Z
LAST-MODIFIED:20190607T221947Z
UID:10002621-1560416400-1560427200@nicholshillsumc.org
SUMMARY:Sports Camp
DESCRIPTION:Sports Camp\n\nJune 10 – 14 @ 9:00 am – 12:00 pm\n\n\n\nNichols Hills United Methodist Church Sports Camp \nJune 10-14 from 9:00 a.m. – Noon \n$75 per child \n4 year olds through 6th graders \n Children may participate in Basketball\, Cheerleading\, Soccer\, or Team 45 (which teaches the fundamentals of motion\, rhythm\, and balance development to 4 and 5 year-olds) all while experiencing God’s love! Please click HERE to register or call the church office at 405-842-1486 for any questions. \nNichols Hills United Methodist Church / 1212 Bedford Drive / Nichols Hills\, OK  73116 / 405-842-1486 / www.nicholshillsumc.org
URL:https://nicholshillsumc.org/event/3252/
LOCATION:Nichols Hills United Methodist Church\, 1212 Bedford Drive\, Nichols Hills\, OK\, 73116\, United States
END:VEVENT
BEGIN:VEVENT
DTSTART;TZID=UTC:20190612T090000
DTEND;TZID=UTC:20190612T120000
DTSTAMP:20260425T060002
CREATED:20180608T214234Z
LAST-MODIFIED:20190607T221901Z
UID:10002622-1560330000-1560340800@nicholshillsumc.org
SUMMARY:Sports Camp
DESCRIPTION:Sports Camp\n\nJune 10 – 14 @ 9:00 am – 12:00 pm\n\n\n\nNichols Hills United Methodist Church Sports Camp \nJune 10-14 from 9:00 a.m. – Noon \n$75 per child \n4 year olds through 6th graders \n Children may participate in Basketball\, Cheerleading\, Soccer\, or Team 45 (which teaches the fundamentals of motion\, rhythm\, and balance development to 4 and 5 year-olds) all while experiencing God’s love! Please click HERE to register or call the church office at 405-842-1486 for any questions. \nNichols Hills United Methodist Church / 1212 Bedford Drive / Nichols Hills\, OK  73116 / 405-842-1486 / www.nicholshillsumc.org
URL:https://nicholshillsumc.org/event/sports-camp-2/
LOCATION:Nichols Hills United Methodist Church\, 1212 Bedford Drive\, Nichols Hills\, OK\, 73116\, United States
END:VEVENT
BEGIN:VEVENT
DTSTART;TZID=UTC:20190611T090000
DTEND;TZID=UTC:20190611T120000
DTSTAMP:20260425T060002
CREATED:20180608T214326Z
LAST-MODIFIED:20190607T221844Z
UID:10002623-1560243600-1560254400@nicholshillsumc.org
SUMMARY:Sports Camp
DESCRIPTION:Sports Camp\n\nJune 10 – 14 @ 9:00 am – 12:00 pm\n\n\n\nNichols Hills United Methodist Church Sports Camp \nJune 10-14 from 9:00 a.m. – Noon \n$75 per child \n4 year olds through 6th graders \n Children may participate in Basketball\, Cheerleading\, Soccer\, or Team 45 (which teaches the fundamentals of motion\, rhythm\, and balance development to 4 and 5 year-olds) all while experiencing God’s love! Please click HERE to register or call the church office at 405-842-1486 for any questions. \nNichols Hills United Methodist Church / 1212 Bedford Drive / Nichols Hills\, OK  73116 / 405-842-1486 / www.nicholshillsumc.org
URL:https://nicholshillsumc.org/event/sports-camp-3/
LOCATION:Nichols Hills United Methodist Church\, 1212 Bedford Drive\, Nichols Hills\, OK\, 73116\, United States
END:VEVENT
BEGIN:VEVENT
DTSTART;TZID=UTC:20190610T090000
DTEND;TZID=UTC:20190610T120000
DTSTAMP:20260425T060002
CREATED:20180608T214400Z
LAST-MODIFIED:20190607T221555Z
UID:10002624-1560157200-1560168000@nicholshillsumc.org
SUMMARY:Sports Camp
DESCRIPTION:Sports Camp\n\nJune 10 – 14 @ 9:00 am – 12:00 pm\n\n\n\nNichols Hills United Methodist Church Sports Camp \nJune 10-14 from 9:00 a.m. – Noon \n$75 per child \n4 year olds through 6th graders \n Children may participate in Basketball\, Cheerleading\, Soccer\, or Team 45 (which teaches the fundamentals of motion\, rhythm\, and balance development to 4 and 5 year-olds) all while experiencing God’s love! Please click HERE to register or call the church office at 405-842-1486 for any questions. \nNichols Hills United Methodist Church / 1212 Bedford Drive / Nichols Hills\, OK  73116 / 405-842-1486 / www.nicholshillsumc.org
URL:https://nicholshillsumc.org/event/sports-camp-4/
LOCATION:Nichols Hills United Methodist Church\, 1212 Bedford Drive\, Nichols Hills\, OK\, 73116\, United States
END:VEVENT
END:VCALENDAR