BEGIN:VCALENDAR
VERSION:2.0
PRODID:-//Nichols Hills United Methodist Church - ECPv6.15.20//NONSGML v1.0//EN
CALSCALE:GREGORIAN
METHOD:PUBLISH
X-ORIGINAL-URL:https://nicholshillsumc.org
X-WR-CALDESC:Events for Nichols Hills United Methodist Church
REFRESH-INTERVAL;VALUE=DURATION:PT1H
X-Robots-Tag:noindex
X-PUBLISHED-TTL:PT1H
BEGIN:VTIMEZONE
TZID:America/Denver
BEGIN:DAYLIGHT
TZOFFSETFROM:-0700
TZOFFSETTO:-0600
TZNAME:MDT
DTSTART:20230312T090000
END:DAYLIGHT
BEGIN:STANDARD
TZOFFSETFROM:-0600
TZOFFSETTO:-0700
TZNAME:MST
DTSTART:20231105T080000
END:STANDARD
BEGIN:DAYLIGHT
TZOFFSETFROM:-0700
TZOFFSETTO:-0600
TZNAME:MDT
DTSTART:20240310T090000
END:DAYLIGHT
BEGIN:STANDARD
TZOFFSETFROM:-0600
TZOFFSETTO:-0700
TZNAME:MST
DTSTART:20241103T080000
END:STANDARD
BEGIN:DAYLIGHT
TZOFFSETFROM:-0700
TZOFFSETTO:-0600
TZNAME:MDT
DTSTART:20250309T090000
END:DAYLIGHT
BEGIN:STANDARD
TZOFFSETFROM:-0600
TZOFFSETTO:-0700
TZNAME:MST
DTSTART:20251102T080000
END:STANDARD
END:VTIMEZONE
BEGIN:VTIMEZONE
TZID:UTC
BEGIN:STANDARD
TZOFFSETFROM:+0000
TZOFFSETTO:+0000
TZNAME:UTC
DTSTART:20230101T000000
END:STANDARD
END:VTIMEZONE
BEGIN:VEVENT
DTSTART;TZID=America/Denver:20240929T090000
DTEND;TZID=America/Denver:20240929T100000
DTSTAMP:20260424T213501
CREATED:20240903T195039Z
LAST-MODIFIED:20260325T161714Z
UID:10006511-1727600400-1727604000@nicholshillsumc.org
SUMMARY:Sunday School
DESCRIPTION:Join us for Sunday School at 9:00 a.m.
URL:https://nicholshillsumc.org/event/sunday-school-2/2024-09-29/
LOCATION:Nichols Hills United Methodist Church\, 1212 Bedford Drive\, Nichols Hills\, OK\, 73116\, United States
END:VEVENT
BEGIN:VEVENT
DTSTART;TZID=America/Denver:20240925T180000
DTEND;TZID=America/Denver:20240925T200000
DTSTAMP:20260424T213501
CREATED:20240813T192617Z
LAST-MODIFIED:20250324T182857Z
UID:10006167-1727287200-1727294400@nicholshillsumc.org
SUMMARY:Thrive Wednesday Night Ministry
DESCRIPTION:Join us for our Thrive ministry on Wednesday evenings. We will have dinner and rotating classes to choose from that will focus on Mind\, Body\, and Spirit. Call the church office at 405-842-1486 for more information.
URL:https://nicholshillsumc.org/event/thrive-wednesday-night-ministry/2024-09-25/
LOCATION:Nichols Hills United Methodist Church\, 1212 Bedford Drive\, Nichols Hills\, OK\, 73116\, United States
ATTACH;FMTTYPE=image/jpeg:https://nicholshillsumc.org/wp-content/uploads/2024/08/Thrive-Slide.jpg
END:VEVENT
BEGIN:VEVENT
DTSTART;TZID=America/Denver:20240923T183000
DTEND;TZID=America/Denver:20240923T193000
DTSTAMP:20260424T213501
CREATED:20240207T200544Z
LAST-MODIFIED:20240207T200544Z
UID:10005630-1727116200-1727119800@nicholshillsumc.org
SUMMARY:Scouts
DESCRIPTION:
URL:https://nicholshillsumc.org/event/scouts/2024-09-23/
LOCATION:Nichols Hills United Methodist Church\, 1212 Bedford Drive\, Nichols Hills\, OK\, 73116\, United States
END:VEVENT
BEGIN:VEVENT
DTSTART;TZID=America/Denver:20240922T100000
DTEND;TZID=America/Denver:20240922T110000
DTSTAMP:20260424T213501
CREATED:20240903T193220Z
LAST-MODIFIED:20260325T161617Z
UID:10006238-1726999200-1727002800@nicholshillsumc.org
SUMMARY:Worship Service at 10:00 a.m.
DESCRIPTION:Join us for worship at 10:00 a.m.
URL:https://nicholshillsumc.org/event/worship-service-at-1000-a-m-2/2024-09-22/
LOCATION:Nichols Hills United Methodist Church\, 1212 Bedford Drive\, Nichols Hills\, OK\, 73116\, United States
END:VEVENT
BEGIN:VEVENT
DTSTART;TZID=America/Denver:20240922T090000
DTEND;TZID=America/Denver:20240922T100000
DTSTAMP:20260424T213501
CREATED:20240903T195039Z
LAST-MODIFIED:20260325T161714Z
UID:10006510-1726995600-1726999200@nicholshillsumc.org
SUMMARY:Sunday School
DESCRIPTION:Join us for Sunday School at 9:00 a.m.
URL:https://nicholshillsumc.org/event/sunday-school-2/2024-09-22/
LOCATION:Nichols Hills United Methodist Church\, 1212 Bedford Drive\, Nichols Hills\, OK\, 73116\, United States
END:VEVENT
BEGIN:VEVENT
DTSTART;TZID=America/Denver:20240918T180000
DTEND;TZID=America/Denver:20240918T200000
DTSTAMP:20260424T213501
CREATED:20240813T192617Z
LAST-MODIFIED:20250324T182857Z
UID:10006166-1726682400-1726689600@nicholshillsumc.org
SUMMARY:Thrive Wednesday Night Ministry
DESCRIPTION:Join us for our Thrive ministry on Wednesday evenings. We will have dinner and rotating classes to choose from that will focus on Mind\, Body\, and Spirit. Call the church office at 405-842-1486 for more information.
URL:https://nicholshillsumc.org/event/thrive-wednesday-night-ministry/2024-09-18/
LOCATION:Nichols Hills United Methodist Church\, 1212 Bedford Drive\, Nichols Hills\, OK\, 73116\, United States
ATTACH;FMTTYPE=image/jpeg:https://nicholshillsumc.org/wp-content/uploads/2024/08/Thrive-Slide.jpg
END:VEVENT
BEGIN:VEVENT
DTSTART;TZID=America/Denver:20240916T183000
DTEND;TZID=America/Denver:20240916T193000
DTSTAMP:20260424T213501
CREATED:20240207T200544Z
LAST-MODIFIED:20240207T200544Z
UID:10005629-1726511400-1726515000@nicholshillsumc.org
SUMMARY:Scouts
DESCRIPTION:
URL:https://nicholshillsumc.org/event/scouts/2024-09-16/
LOCATION:Nichols Hills United Methodist Church\, 1212 Bedford Drive\, Nichols Hills\, OK\, 73116\, United States
END:VEVENT
BEGIN:VEVENT
DTSTART;TZID=America/Denver:20240915T100000
DTEND;TZID=America/Denver:20240915T110000
DTSTAMP:20260424T213501
CREATED:20240903T193220Z
LAST-MODIFIED:20260325T161617Z
UID:10006237-1726394400-1726398000@nicholshillsumc.org
SUMMARY:Worship Service at 10:00 a.m.
DESCRIPTION:Join us for worship at 10:00 a.m.
URL:https://nicholshillsumc.org/event/worship-service-at-1000-a-m-2/2024-09-15/
LOCATION:Nichols Hills United Methodist Church\, 1212 Bedford Drive\, Nichols Hills\, OK\, 73116\, United States
END:VEVENT
BEGIN:VEVENT
DTSTART;TZID=America/Denver:20240915T090000
DTEND;TZID=America/Denver:20240915T100000
DTSTAMP:20260424T213501
CREATED:20240903T195039Z
LAST-MODIFIED:20260325T161714Z
UID:10006509-1726390800-1726394400@nicholshillsumc.org
SUMMARY:Sunday School
DESCRIPTION:Join us for Sunday School at 9:00 a.m.
URL:https://nicholshillsumc.org/event/sunday-school-2/2024-09-15/
LOCATION:Nichols Hills United Methodist Church\, 1212 Bedford Drive\, Nichols Hills\, OK\, 73116\, United States
END:VEVENT
BEGIN:VEVENT
DTSTART;TZID=America/Denver:20240911T180000
DTEND;TZID=America/Denver:20240911T200000
DTSTAMP:20260424T213501
CREATED:20240813T192617Z
LAST-MODIFIED:20250324T182857Z
UID:10006165-1726077600-1726084800@nicholshillsumc.org
SUMMARY:Thrive Wednesday Night Ministry
DESCRIPTION:Join us for our Thrive ministry on Wednesday evenings. We will have dinner and rotating classes to choose from that will focus on Mind\, Body\, and Spirit. Call the church office at 405-842-1486 for more information.
URL:https://nicholshillsumc.org/event/thrive-wednesday-night-ministry/2024-09-11/
LOCATION:Nichols Hills United Methodist Church\, 1212 Bedford Drive\, Nichols Hills\, OK\, 73116\, United States
ATTACH;FMTTYPE=image/jpeg:https://nicholshillsumc.org/wp-content/uploads/2024/08/Thrive-Slide.jpg
END:VEVENT
BEGIN:VEVENT
DTSTART;TZID=America/Denver:20240909T183000
DTEND;TZID=America/Denver:20240909T193000
DTSTAMP:20260424T213501
CREATED:20240207T200544Z
LAST-MODIFIED:20240207T200544Z
UID:10005628-1725906600-1725910200@nicholshillsumc.org
SUMMARY:Scouts
DESCRIPTION:
URL:https://nicholshillsumc.org/event/scouts/2024-09-09/
LOCATION:Nichols Hills United Methodist Church\, 1212 Bedford Drive\, Nichols Hills\, OK\, 73116\, United States
END:VEVENT
BEGIN:VEVENT
DTSTART;TZID=America/Denver:20240908T100000
DTEND;TZID=America/Denver:20240908T120000
DTSTAMP:20260424T213501
CREATED:20240813T192821Z
LAST-MODIFIED:20240815T201600Z
UID:10006232-1725789600-1725796800@nicholshillsumc.org
SUMMARY:Meet Becky and Barry Switzer as they present their mission\, Ground Zero
DESCRIPTION:Meet Becky and Barry Switzer as they present their mission\, Ground Zero\, on Sunday\, September 8 at 10:00 a.m.
URL:https://nicholshillsumc.org/event/meet-becky-and-barry-switzer-as-they-present-their-mission-ground-zero/
LOCATION:Nichols Hills United Methodist Church\, 1212 Bedford Drive\, Nichols Hills\, OK\, 73116\, United States
ATTACH;FMTTYPE=image/jpeg:https://nicholshillsumc.org/wp-content/uploads/2024/08/Ground-Zero-Invite-Front.jpg
END:VEVENT
BEGIN:VEVENT
DTSTART;TZID=America/Denver:20240908T090000
DTEND;TZID=America/Denver:20240908T100000
DTSTAMP:20260424T213501
CREATED:20240903T195039Z
LAST-MODIFIED:20260325T161714Z
UID:10006508-1725786000-1725789600@nicholshillsumc.org
SUMMARY:Sunday School
DESCRIPTION:Join us for Sunday School at 9:00 a.m.
URL:https://nicholshillsumc.org/event/sunday-school-2/2024-09-08/
LOCATION:Nichols Hills United Methodist Church\, 1212 Bedford Drive\, Nichols Hills\, OK\, 73116\, United States
END:VEVENT
BEGIN:VEVENT
DTSTART;TZID=America/Denver:20240904T180000
DTEND;TZID=America/Denver:20240904T200000
DTSTAMP:20260424T213501
CREATED:20240813T192617Z
LAST-MODIFIED:20250324T182857Z
UID:10006164-1725472800-1725480000@nicholshillsumc.org
SUMMARY:Thrive Wednesday Night Ministry
DESCRIPTION:Join us for our Thrive ministry on Wednesday evenings. We will have dinner and rotating classes to choose from that will focus on Mind\, Body\, and Spirit. Call the church office at 405-842-1486 for more information.
URL:https://nicholshillsumc.org/event/thrive-wednesday-night-ministry/2024-09-04/
LOCATION:Nichols Hills United Methodist Church\, 1212 Bedford Drive\, Nichols Hills\, OK\, 73116\, United States
ATTACH;FMTTYPE=image/jpeg:https://nicholshillsumc.org/wp-content/uploads/2024/08/Thrive-Slide.jpg
END:VEVENT
BEGIN:VEVENT
DTSTART;TZID=America/Denver:20240902T183000
DTEND;TZID=America/Denver:20240902T193000
DTSTAMP:20260424T213501
CREATED:20240207T200544Z
LAST-MODIFIED:20240207T200544Z
UID:10005627-1725301800-1725305400@nicholshillsumc.org
SUMMARY:Scouts
DESCRIPTION:
URL:https://nicholshillsumc.org/event/scouts/2024-09-02/
LOCATION:Nichols Hills United Methodist Church\, 1212 Bedford Drive\, Nichols Hills\, OK\, 73116\, United States
END:VEVENT
BEGIN:VEVENT
DTSTART;TZID=America/Denver:20240826T183000
DTEND;TZID=America/Denver:20240826T193000
DTSTAMP:20260424T213501
CREATED:20240207T200544Z
LAST-MODIFIED:20240207T200544Z
UID:10005626-1724697000-1724700600@nicholshillsumc.org
SUMMARY:Scouts
DESCRIPTION:
URL:https://nicholshillsumc.org/event/scouts/2024-08-26/
LOCATION:Nichols Hills United Methodist Church\, 1212 Bedford Drive\, Nichols Hills\, OK\, 73116\, United States
END:VEVENT
BEGIN:VEVENT
DTSTART;TZID=UTC:20240826T180000
DTEND;TZID=UTC:20240826T183000
DTSTAMP:20260424T213501
CREATED:20160409T215724Z
LAST-MODIFIED:20250821T201838Z
UID:10002113-1724695200-1724697000@nicholshillsumc.org
SUMMARY:Trustees Meeting
DESCRIPTION:
URL:https://nicholshillsumc.org/event/trustees-meeting/
LOCATION:Nichols Hills United Methodist Church\, 1212 Bedford Drive\, Nichols Hills\, OK\, 73116\, United States
END:VEVENT
BEGIN:VEVENT
DTSTART;TZID=America/Denver:20240819T183000
DTEND;TZID=America/Denver:20240819T193000
DTSTAMP:20260424T213501
CREATED:20240207T200544Z
LAST-MODIFIED:20240207T200544Z
UID:10005625-1724092200-1724095800@nicholshillsumc.org
SUMMARY:Scouts
DESCRIPTION:
URL:https://nicholshillsumc.org/event/scouts/2024-08-19/
LOCATION:Nichols Hills United Methodist Church\, 1212 Bedford Drive\, Nichols Hills\, OK\, 73116\, United States
END:VEVENT
BEGIN:VEVENT
DTSTART;TZID=America/Denver:20240818T105000
DTEND;TZID=America/Denver:20240818T120000
DTSTAMP:20260424T213501
CREATED:20240813T191435Z
LAST-MODIFIED:20240813T195805Z
UID:10006163-1723978200-1723982400@nicholshillsumc.org
SUMMARY:Blessing of the Backpacks
DESCRIPTION:Bring your child and their backpack to be blessed during our worship service at 10:50 a.m. on Sunday\, August 18.
URL:https://nicholshillsumc.org/event/blessing-of-the-backpacks/
LOCATION:Nichols Hills United Methodist Church\, 1212 Bedford Drive\, Nichols Hills\, OK\, 73116\, United States
ATTACH;FMTTYPE=image/jpeg:https://nicholshillsumc.org/wp-content/uploads/2024/08/Blessing-of-the-Backpacks.jpg
END:VEVENT
BEGIN:VEVENT
DTSTART;TZID=America/Denver:20240812T183000
DTEND;TZID=America/Denver:20240812T193000
DTSTAMP:20260424T213501
CREATED:20240207T200544Z
LAST-MODIFIED:20240207T200544Z
UID:10005624-1723487400-1723491000@nicholshillsumc.org
SUMMARY:Scouts
DESCRIPTION:
URL:https://nicholshillsumc.org/event/scouts/2024-08-12/
LOCATION:Nichols Hills United Methodist Church\, 1212 Bedford Drive\, Nichols Hills\, OK\, 73116\, United States
END:VEVENT
BEGIN:VEVENT
DTSTART;TZID=America/Denver:20240805T183000
DTEND;TZID=America/Denver:20240805T193000
DTSTAMP:20260424T213501
CREATED:20240207T200544Z
LAST-MODIFIED:20240207T200544Z
UID:10005623-1722882600-1722886200@nicholshillsumc.org
SUMMARY:Scouts
DESCRIPTION:
URL:https://nicholshillsumc.org/event/scouts/2024-08-05/
LOCATION:Nichols Hills United Methodist Church\, 1212 Bedford Drive\, Nichols Hills\, OK\, 73116\, United States
END:VEVENT
BEGIN:VEVENT
DTSTART;TZID=America/Denver:20240729T183000
DTEND;TZID=America/Denver:20240729T193000
DTSTAMP:20260424T213501
CREATED:20240207T200544Z
LAST-MODIFIED:20240207T200544Z
UID:10005622-1722277800-1722281400@nicholshillsumc.org
SUMMARY:Scouts
DESCRIPTION:
URL:https://nicholshillsumc.org/event/scouts/2024-07-29/
LOCATION:Nichols Hills United Methodist Church\, 1212 Bedford Drive\, Nichols Hills\, OK\, 73116\, United States
END:VEVENT
BEGIN:VEVENT
DTSTART;TZID=America/Denver:20240726T080000
DTEND;TZID=America/Denver:20240726T140000
DTSTAMP:20260424T213501
CREATED:20240522T203914Z
LAST-MODIFIED:20240522T203914Z
UID:10006123-1721980800-1722002400@nicholshillsumc.org
SUMMARY:The Learning Center Last Day of Summer Session
DESCRIPTION:
URL:https://nicholshillsumc.org/event/the-learning-center-last-day-of-summer-session/
LOCATION:Nichols Hills United Methodist Church\, 1212 Bedford Drive\, Nichols Hills\, OK\, 73116\, United States
END:VEVENT
BEGIN:VEVENT
DTSTART;TZID=America/Denver:20240722T183000
DTEND;TZID=America/Denver:20240722T193000
DTSTAMP:20260424T213501
CREATED:20240207T200544Z
LAST-MODIFIED:20240207T200544Z
UID:10005621-1721673000-1721676600@nicholshillsumc.org
SUMMARY:Scouts
DESCRIPTION:
URL:https://nicholshillsumc.org/event/scouts/2024-07-22/
LOCATION:Nichols Hills United Methodist Church\, 1212 Bedford Drive\, Nichols Hills\, OK\, 73116\, United States
END:VEVENT
BEGIN:VEVENT
DTSTART;TZID=America/Denver:20240715T183000
DTEND;TZID=America/Denver:20240715T193000
DTSTAMP:20260424T213501
CREATED:20240207T200544Z
LAST-MODIFIED:20240207T200544Z
UID:10005620-1721068200-1721071800@nicholshillsumc.org
SUMMARY:Scouts
DESCRIPTION:
URL:https://nicholshillsumc.org/event/scouts/2024-07-15/
LOCATION:Nichols Hills United Methodist Church\, 1212 Bedford Drive\, Nichols Hills\, OK\, 73116\, United States
END:VEVENT
BEGIN:VEVENT
DTSTART;TZID=America/Denver:20240708T183000
DTEND;TZID=America/Denver:20240708T193000
DTSTAMP:20260424T213501
CREATED:20240207T200544Z
LAST-MODIFIED:20240207T200544Z
UID:10005619-1720463400-1720467000@nicholshillsumc.org
SUMMARY:Scouts
DESCRIPTION:
URL:https://nicholshillsumc.org/event/scouts/2024-07-08/
LOCATION:Nichols Hills United Methodist Church\, 1212 Bedford Drive\, Nichols Hills\, OK\, 73116\, United States
END:VEVENT
BEGIN:VEVENT
DTSTART;TZID=America/Denver:20240701T183000
DTEND;TZID=America/Denver:20240701T193000
DTSTAMP:20260424T213501
CREATED:20240207T200544Z
LAST-MODIFIED:20240207T200544Z
UID:10005618-1719858600-1719862200@nicholshillsumc.org
SUMMARY:Scouts
DESCRIPTION:
URL:https://nicholshillsumc.org/event/scouts/2024-07-01/
LOCATION:Nichols Hills United Methodist Church\, 1212 Bedford Drive\, Nichols Hills\, OK\, 73116\, United States
END:VEVENT
BEGIN:VEVENT
DTSTART;TZID=America/Denver:20240624T183000
DTEND;TZID=America/Denver:20240624T193000
DTSTAMP:20260424T213501
CREATED:20240207T200544Z
LAST-MODIFIED:20240207T200544Z
UID:10005617-1719253800-1719257400@nicholshillsumc.org
SUMMARY:Scouts
DESCRIPTION:
URL:https://nicholshillsumc.org/event/scouts/2024-06-24/
LOCATION:Nichols Hills United Methodist Church\, 1212 Bedford Drive\, Nichols Hills\, OK\, 73116\, United States
END:VEVENT
BEGIN:VEVENT
DTSTART;TZID=America/Denver:20240623T100000
DTEND;TZID=America/Denver:20240623T110000
DTSTAMP:20260424T213501
CREATED:20240612T211242Z
LAST-MODIFIED:20240612T211920Z
UID:10006144-1719136800-1719140400@nicholshillsumc.org
SUMMARY:Worship at 10:00 a.m./Dr. Godding Reception
DESCRIPTION:Join us for Worship on Sunday\, June 23 at 10:00 a.m. and stay for a reception honoring Dr. Antone Godding\, Nichols Hills United Methodist Church’s organist of 48 years! \nHis bio is listed below: \nDr. Antone Godding was organist at Nichols Hills United Methodist Church\, Oklahoma City and Professor Emeritus of Music at Oklahoma City University.  He was educated at Friends University\, Wichita\, Kansas\, Union Theological Seminary\, New York City\, and holds the doctor of musical arts degree in organ performance and literature from the Eastman School of Music\, Rochester\, New York\, where his major professor was Russell Saunders.  As a Fulbright scholar\, he was a student of Helmut Walcha at the Staatliche Hochschule für Music in Frankfurt-am-Main\, Germany.  Godding is a past-dean of chapters of the American Guild of Organists in Waterbury\, Connecticut and Oklahoma City.  He served nine years as Oklahoma State Chairman for that organization\, and as secretary and treasurer of the Oklahoma City Chapter.  He has conducted numerous organ repertoire sessions in Oklahoma City and for the AGO at local\, regional\, and national meetings. \n  \n  \n 
URL:https://nicholshillsumc.org/event/worship-at-1000-a-m/
LOCATION:Nichols Hills United Methodist Church\, 1212 Bedford Drive\, Nichols Hills\, OK\, 73116\, United States
ATTACH;FMTTYPE=image/jpeg:https://nicholshillsumc.org/wp-content/uploads/2024/06/Dr.-Godding-Reception-June-23.jpg
END:VEVENT
BEGIN:VEVENT
DTSTART;TZID=America/Denver:20240617T183000
DTEND;TZID=America/Denver:20240617T193000
DTSTAMP:20260424T213501
CREATED:20240207T200544Z
LAST-MODIFIED:20240207T200544Z
UID:10005616-1718649000-1718652600@nicholshillsumc.org
SUMMARY:Scouts
DESCRIPTION:
URL:https://nicholshillsumc.org/event/scouts/2024-06-17/
LOCATION:Nichols Hills United Methodist Church\, 1212 Bedford Drive\, Nichols Hills\, OK\, 73116\, United States
END:VEVENT
END:VCALENDAR