BEGIN:VCALENDAR
VERSION:2.0
PRODID:-//Nichols Hills United Methodist Church - ECPv6.15.20//NONSGML v1.0//EN
CALSCALE:GREGORIAN
METHOD:PUBLISH
X-WR-CALNAME:Nichols Hills United Methodist Church
X-ORIGINAL-URL:https://nicholshillsumc.org
X-WR-CALDESC:Events for Nichols Hills United Methodist Church
REFRESH-INTERVAL;VALUE=DURATION:PT1H
X-Robots-Tag:noindex
X-PUBLISHED-TTL:PT1H
BEGIN:VTIMEZONE
TZID:America/Denver
BEGIN:DAYLIGHT
TZOFFSETFROM:-0700
TZOFFSETTO:-0600
TZNAME:MDT
DTSTART:20250309T090000
END:DAYLIGHT
BEGIN:STANDARD
TZOFFSETFROM:-0600
TZOFFSETTO:-0700
TZNAME:MST
DTSTART:20251102T080000
END:STANDARD
BEGIN:DAYLIGHT
TZOFFSETFROM:-0700
TZOFFSETTO:-0600
TZNAME:MDT
DTSTART:20260308T090000
END:DAYLIGHT
BEGIN:STANDARD
TZOFFSETFROM:-0600
TZOFFSETTO:-0700
TZNAME:MST
DTSTART:20261101T080000
END:STANDARD
BEGIN:DAYLIGHT
TZOFFSETFROM:-0700
TZOFFSETTO:-0600
TZNAME:MDT
DTSTART:20270314T090000
END:DAYLIGHT
BEGIN:STANDARD
TZOFFSETFROM:-0600
TZOFFSETTO:-0700
TZNAME:MST
DTSTART:20271107T080000
END:STANDARD
END:VTIMEZONE
BEGIN:VEVENT
DTSTART;TZID=America/Denver:20260517T100000
DTEND;TZID=America/Denver:20260517T110000
DTSTAMP:20260421T090922
CREATED:20240903T193220Z
LAST-MODIFIED:20260325T161617Z
UID:10006324-1779012000-1779015600@nicholshillsumc.org
SUMMARY:Worship Service at 10:00 a.m.
DESCRIPTION:Join us for worship at 10:00 a.m.
URL:https://nicholshillsumc.org/event/worship-service-at-1000-a-m-2/2026-05-17/
LOCATION:Nichols Hills United Methodist Church\, 1212 Bedford Drive\, Nichols Hills\, OK\, 73116\, United States
END:VEVENT
BEGIN:VEVENT
DTSTART;TZID=America/Denver:20260518T183000
DTEND;TZID=America/Denver:20260518T193000
DTSTAMP:20260421T090922
CREATED:20240207T200544Z
LAST-MODIFIED:20240207T200544Z
UID:10005716-1779129000-1779132600@nicholshillsumc.org
SUMMARY:Scouts
DESCRIPTION:
URL:https://nicholshillsumc.org/event/scouts/2026-05-18/
LOCATION:Nichols Hills United Methodist Church\, 1212 Bedford Drive\, Nichols Hills\, OK\, 73116\, United States
END:VEVENT
BEGIN:VEVENT
DTSTART;TZID=America/Denver:20260524T090000
DTEND;TZID=America/Denver:20260524T100000
DTSTAMP:20260421T090922
CREATED:20240903T195039Z
LAST-MODIFIED:20260325T161714Z
UID:10006597-1779613200-1779616800@nicholshillsumc.org
SUMMARY:Sunday School
DESCRIPTION:Join us for Sunday School at 9:00 a.m.
URL:https://nicholshillsumc.org/event/sunday-school-2/2026-05-24/
LOCATION:Nichols Hills United Methodist Church\, 1212 Bedford Drive\, Nichols Hills\, OK\, 73116\, United States
END:VEVENT
BEGIN:VEVENT
DTSTART;TZID=America/Denver:20260524T100000
DTEND;TZID=America/Denver:20260524T110000
DTSTAMP:20260421T090922
CREATED:20240903T193220Z
LAST-MODIFIED:20260325T161617Z
UID:10006325-1779616800-1779620400@nicholshillsumc.org
SUMMARY:Worship Service at 10:00 a.m.
DESCRIPTION:Join us for worship at 10:00 a.m.
URL:https://nicholshillsumc.org/event/worship-service-at-1000-a-m-2/2026-05-24/
LOCATION:Nichols Hills United Methodist Church\, 1212 Bedford Drive\, Nichols Hills\, OK\, 73116\, United States
END:VEVENT
BEGIN:VEVENT
DTSTART;TZID=America/Denver:20260525T183000
DTEND;TZID=America/Denver:20260525T193000
DTSTAMP:20260421T090922
CREATED:20240207T200544Z
LAST-MODIFIED:20240207T200544Z
UID:10005717-1779733800-1779737400@nicholshillsumc.org
SUMMARY:Scouts
DESCRIPTION:
URL:https://nicholshillsumc.org/event/scouts/2026-05-25/
LOCATION:Nichols Hills United Methodist Church\, 1212 Bedford Drive\, Nichols Hills\, OK\, 73116\, United States
END:VEVENT
BEGIN:VEVENT
DTSTART;TZID=America/Denver:20260531T090000
DTEND;TZID=America/Denver:20260531T100000
DTSTAMP:20260421T090922
CREATED:20240903T195039Z
LAST-MODIFIED:20260325T161714Z
UID:10006598-1780218000-1780221600@nicholshillsumc.org
SUMMARY:Sunday School
DESCRIPTION:Join us for Sunday School at 9:00 a.m.
URL:https://nicholshillsumc.org/event/sunday-school-2/2026-05-31/
LOCATION:Nichols Hills United Methodist Church\, 1212 Bedford Drive\, Nichols Hills\, OK\, 73116\, United States
END:VEVENT
BEGIN:VEVENT
DTSTART;TZID=America/Denver:20260531T100000
DTEND;TZID=America/Denver:20260531T110000
DTSTAMP:20260421T090922
CREATED:20240903T193220Z
LAST-MODIFIED:20260325T161617Z
UID:10006326-1780221600-1780225200@nicholshillsumc.org
SUMMARY:Worship Service at 10:00 a.m.
DESCRIPTION:Join us for worship at 10:00 a.m.
URL:https://nicholshillsumc.org/event/worship-service-at-1000-a-m-2/2026-05-31/
LOCATION:Nichols Hills United Methodist Church\, 1212 Bedford Drive\, Nichols Hills\, OK\, 73116\, United States
END:VEVENT
BEGIN:VEVENT
DTSTART;TZID=America/Denver:20260601T183000
DTEND;TZID=America/Denver:20260601T193000
DTSTAMP:20260421T090922
CREATED:20240207T200544Z
LAST-MODIFIED:20240207T200544Z
UID:10005718-1780338600-1780342200@nicholshillsumc.org
SUMMARY:Scouts
DESCRIPTION:
URL:https://nicholshillsumc.org/event/scouts/2026-06-01/
LOCATION:Nichols Hills United Methodist Church\, 1212 Bedford Drive\, Nichols Hills\, OK\, 73116\, United States
END:VEVENT
BEGIN:VEVENT
DTSTART;TZID=America/Denver:20260607T090000
DTEND;TZID=America/Denver:20260607T100000
DTSTAMP:20260421T090922
CREATED:20240903T195039Z
LAST-MODIFIED:20260325T161714Z
UID:10006599-1780822800-1780826400@nicholshillsumc.org
SUMMARY:Sunday School
DESCRIPTION:Join us for Sunday School at 9:00 a.m.
URL:https://nicholshillsumc.org/event/sunday-school-2/2026-06-07/
LOCATION:Nichols Hills United Methodist Church\, 1212 Bedford Drive\, Nichols Hills\, OK\, 73116\, United States
END:VEVENT
BEGIN:VEVENT
DTSTART;TZID=America/Denver:20260607T100000
DTEND;TZID=America/Denver:20260607T110000
DTSTAMP:20260421T090922
CREATED:20240903T193220Z
LAST-MODIFIED:20260325T161617Z
UID:10006327-1780826400-1780830000@nicholshillsumc.org
SUMMARY:Worship Service at 10:00 a.m.
DESCRIPTION:Join us for worship at 10:00 a.m.
URL:https://nicholshillsumc.org/event/worship-service-at-1000-a-m-2/2026-06-07/
LOCATION:Nichols Hills United Methodist Church\, 1212 Bedford Drive\, Nichols Hills\, OK\, 73116\, United States
END:VEVENT
BEGIN:VEVENT
DTSTART;TZID=America/Denver:20260608T183000
DTEND;TZID=America/Denver:20260608T193000
DTSTAMP:20260421T090922
CREATED:20240207T200544Z
LAST-MODIFIED:20240207T200544Z
UID:10005719-1780943400-1780947000@nicholshillsumc.org
SUMMARY:Scouts
DESCRIPTION:
URL:https://nicholshillsumc.org/event/scouts/2026-06-08/
LOCATION:Nichols Hills United Methodist Church\, 1212 Bedford Drive\, Nichols Hills\, OK\, 73116\, United States
END:VEVENT
BEGIN:VEVENT
DTSTART;TZID=America/Denver:20260614T090000
DTEND;TZID=America/Denver:20260614T100000
DTSTAMP:20260421T090922
CREATED:20240903T195039Z
LAST-MODIFIED:20260325T161714Z
UID:10006600-1781427600-1781431200@nicholshillsumc.org
SUMMARY:Sunday School
DESCRIPTION:Join us for Sunday School at 9:00 a.m.
URL:https://nicholshillsumc.org/event/sunday-school-2/2026-06-14/
LOCATION:Nichols Hills United Methodist Church\, 1212 Bedford Drive\, Nichols Hills\, OK\, 73116\, United States
END:VEVENT
BEGIN:VEVENT
DTSTART;TZID=America/Denver:20260614T100000
DTEND;TZID=America/Denver:20260614T110000
DTSTAMP:20260421T090922
CREATED:20240903T193220Z
LAST-MODIFIED:20260325T161617Z
UID:10006328-1781431200-1781434800@nicholshillsumc.org
SUMMARY:Worship Service at 10:00 a.m.
DESCRIPTION:Join us for worship at 10:00 a.m.
URL:https://nicholshillsumc.org/event/worship-service-at-1000-a-m-2/2026-06-14/
LOCATION:Nichols Hills United Methodist Church\, 1212 Bedford Drive\, Nichols Hills\, OK\, 73116\, United States
END:VEVENT
BEGIN:VEVENT
DTSTART;TZID=America/Denver:20260615T183000
DTEND;TZID=America/Denver:20260615T193000
DTSTAMP:20260421T090922
CREATED:20240207T200544Z
LAST-MODIFIED:20240207T200544Z
UID:10005720-1781548200-1781551800@nicholshillsumc.org
SUMMARY:Scouts
DESCRIPTION:
URL:https://nicholshillsumc.org/event/scouts/2026-06-15/
LOCATION:Nichols Hills United Methodist Church\, 1212 Bedford Drive\, Nichols Hills\, OK\, 73116\, United States
END:VEVENT
BEGIN:VEVENT
DTSTART;TZID=America/Denver:20260621T090000
DTEND;TZID=America/Denver:20260621T100000
DTSTAMP:20260421T090922
CREATED:20240903T195039Z
LAST-MODIFIED:20260325T161714Z
UID:10006601-1782032400-1782036000@nicholshillsumc.org
SUMMARY:Sunday School
DESCRIPTION:Join us for Sunday School at 9:00 a.m.
URL:https://nicholshillsumc.org/event/sunday-school-2/2026-06-21/
LOCATION:Nichols Hills United Methodist Church\, 1212 Bedford Drive\, Nichols Hills\, OK\, 73116\, United States
END:VEVENT
BEGIN:VEVENT
DTSTART;TZID=America/Denver:20260621T100000
DTEND;TZID=America/Denver:20260621T110000
DTSTAMP:20260421T090922
CREATED:20240903T193220Z
LAST-MODIFIED:20260325T161617Z
UID:10006329-1782036000-1782039600@nicholshillsumc.org
SUMMARY:Worship Service at 10:00 a.m.
DESCRIPTION:Join us for worship at 10:00 a.m.
URL:https://nicholshillsumc.org/event/worship-service-at-1000-a-m-2/2026-06-21/
LOCATION:Nichols Hills United Methodist Church\, 1212 Bedford Drive\, Nichols Hills\, OK\, 73116\, United States
END:VEVENT
BEGIN:VEVENT
DTSTART;TZID=America/Denver:20260622T183000
DTEND;TZID=America/Denver:20260622T193000
DTSTAMP:20260421T090922
CREATED:20240207T200544Z
LAST-MODIFIED:20240207T200544Z
UID:10005721-1782153000-1782156600@nicholshillsumc.org
SUMMARY:Scouts
DESCRIPTION:
URL:https://nicholshillsumc.org/event/scouts/2026-06-22/
LOCATION:Nichols Hills United Methodist Church\, 1212 Bedford Drive\, Nichols Hills\, OK\, 73116\, United States
END:VEVENT
BEGIN:VEVENT
DTSTART;TZID=America/Denver:20260628T090000
DTEND;TZID=America/Denver:20260628T100000
DTSTAMP:20260421T090922
CREATED:20240903T195039Z
LAST-MODIFIED:20260325T161714Z
UID:10006602-1782637200-1782640800@nicholshillsumc.org
SUMMARY:Sunday School
DESCRIPTION:Join us for Sunday School at 9:00 a.m.
URL:https://nicholshillsumc.org/event/sunday-school-2/2026-06-28/
LOCATION:Nichols Hills United Methodist Church\, 1212 Bedford Drive\, Nichols Hills\, OK\, 73116\, United States
END:VEVENT
BEGIN:VEVENT
DTSTART;TZID=America/Denver:20260628T100000
DTEND;TZID=America/Denver:20260628T110000
DTSTAMP:20260421T090922
CREATED:20240903T193220Z
LAST-MODIFIED:20260325T161617Z
UID:10006330-1782640800-1782644400@nicholshillsumc.org
SUMMARY:Worship Service at 10:00 a.m.
DESCRIPTION:Join us for worship at 10:00 a.m.
URL:https://nicholshillsumc.org/event/worship-service-at-1000-a-m-2/2026-06-28/
LOCATION:Nichols Hills United Methodist Church\, 1212 Bedford Drive\, Nichols Hills\, OK\, 73116\, United States
END:VEVENT
BEGIN:VEVENT
DTSTART;TZID=America/Denver:20260629T183000
DTEND;TZID=America/Denver:20260629T193000
DTSTAMP:20260421T090922
CREATED:20240207T200544Z
LAST-MODIFIED:20240207T200544Z
UID:10005722-1782757800-1782761400@nicholshillsumc.org
SUMMARY:Scouts
DESCRIPTION:
URL:https://nicholshillsumc.org/event/scouts/2026-06-29/
LOCATION:Nichols Hills United Methodist Church\, 1212 Bedford Drive\, Nichols Hills\, OK\, 73116\, United States
END:VEVENT
BEGIN:VEVENT
DTSTART;TZID=America/Denver:20260705T090000
DTEND;TZID=America/Denver:20260705T100000
DTSTAMP:20260421T090922
CREATED:20240903T195039Z
LAST-MODIFIED:20260325T161714Z
UID:10006603-1783242000-1783245600@nicholshillsumc.org
SUMMARY:Sunday School
DESCRIPTION:Join us for Sunday School at 9:00 a.m.
URL:https://nicholshillsumc.org/event/sunday-school-2/2026-07-05/
LOCATION:Nichols Hills United Methodist Church\, 1212 Bedford Drive\, Nichols Hills\, OK\, 73116\, United States
END:VEVENT
BEGIN:VEVENT
DTSTART;TZID=America/Denver:20260705T100000
DTEND;TZID=America/Denver:20260705T110000
DTSTAMP:20260421T090922
CREATED:20240903T193220Z
LAST-MODIFIED:20260325T161617Z
UID:10006331-1783245600-1783249200@nicholshillsumc.org
SUMMARY:Worship Service at 10:00 a.m.
DESCRIPTION:Join us for worship at 10:00 a.m.
URL:https://nicholshillsumc.org/event/worship-service-at-1000-a-m-2/2026-07-05/
LOCATION:Nichols Hills United Methodist Church\, 1212 Bedford Drive\, Nichols Hills\, OK\, 73116\, United States
END:VEVENT
BEGIN:VEVENT
DTSTART;TZID=America/Denver:20260706T183000
DTEND;TZID=America/Denver:20260706T193000
DTSTAMP:20260421T090922
CREATED:20240207T200544Z
LAST-MODIFIED:20240207T200544Z
UID:10005723-1783362600-1783366200@nicholshillsumc.org
SUMMARY:Scouts
DESCRIPTION:
URL:https://nicholshillsumc.org/event/scouts/2026-07-06/
LOCATION:Nichols Hills United Methodist Church\, 1212 Bedford Drive\, Nichols Hills\, OK\, 73116\, United States
END:VEVENT
BEGIN:VEVENT
DTSTART;TZID=America/Denver:20260712T090000
DTEND;TZID=America/Denver:20260712T100000
DTSTAMP:20260421T090922
CREATED:20240903T195039Z
LAST-MODIFIED:20260325T161714Z
UID:10006604-1783846800-1783850400@nicholshillsumc.org
SUMMARY:Sunday School
DESCRIPTION:Join us for Sunday School at 9:00 a.m.
URL:https://nicholshillsumc.org/event/sunday-school-2/2026-07-12/
LOCATION:Nichols Hills United Methodist Church\, 1212 Bedford Drive\, Nichols Hills\, OK\, 73116\, United States
END:VEVENT
BEGIN:VEVENT
DTSTART;TZID=America/Denver:20260712T100000
DTEND;TZID=America/Denver:20260712T110000
DTSTAMP:20260421T090922
CREATED:20240903T193220Z
LAST-MODIFIED:20260325T161617Z
UID:10006332-1783850400-1783854000@nicholshillsumc.org
SUMMARY:Worship Service at 10:00 a.m.
DESCRIPTION:Join us for worship at 10:00 a.m.
URL:https://nicholshillsumc.org/event/worship-service-at-1000-a-m-2/2026-07-12/
LOCATION:Nichols Hills United Methodist Church\, 1212 Bedford Drive\, Nichols Hills\, OK\, 73116\, United States
END:VEVENT
BEGIN:VEVENT
DTSTART;TZID=America/Denver:20260713T183000
DTEND;TZID=America/Denver:20260713T193000
DTSTAMP:20260421T090922
CREATED:20240207T200544Z
LAST-MODIFIED:20240207T200544Z
UID:10005724-1783967400-1783971000@nicholshillsumc.org
SUMMARY:Scouts
DESCRIPTION:
URL:https://nicholshillsumc.org/event/scouts/2026-07-13/
LOCATION:Nichols Hills United Methodist Church\, 1212 Bedford Drive\, Nichols Hills\, OK\, 73116\, United States
END:VEVENT
BEGIN:VEVENT
DTSTART;TZID=America/Denver:20260719T090000
DTEND;TZID=America/Denver:20260719T100000
DTSTAMP:20260421T090922
CREATED:20240903T195039Z
LAST-MODIFIED:20260325T161714Z
UID:10006605-1784451600-1784455200@nicholshillsumc.org
SUMMARY:Sunday School
DESCRIPTION:Join us for Sunday School at 9:00 a.m.
URL:https://nicholshillsumc.org/event/sunday-school-2/2026-07-19/
LOCATION:Nichols Hills United Methodist Church\, 1212 Bedford Drive\, Nichols Hills\, OK\, 73116\, United States
END:VEVENT
BEGIN:VEVENT
DTSTART;TZID=America/Denver:20260719T100000
DTEND;TZID=America/Denver:20260719T110000
DTSTAMP:20260421T090922
CREATED:20240903T193220Z
LAST-MODIFIED:20260325T161617Z
UID:10006333-1784455200-1784458800@nicholshillsumc.org
SUMMARY:Worship Service at 10:00 a.m.
DESCRIPTION:Join us for worship at 10:00 a.m.
URL:https://nicholshillsumc.org/event/worship-service-at-1000-a-m-2/2026-07-19/
LOCATION:Nichols Hills United Methodist Church\, 1212 Bedford Drive\, Nichols Hills\, OK\, 73116\, United States
END:VEVENT
BEGIN:VEVENT
DTSTART;TZID=America/Denver:20260720T183000
DTEND;TZID=America/Denver:20260720T193000
DTSTAMP:20260421T090922
CREATED:20240207T200544Z
LAST-MODIFIED:20240207T200544Z
UID:10005725-1784572200-1784575800@nicholshillsumc.org
SUMMARY:Scouts
DESCRIPTION:
URL:https://nicholshillsumc.org/event/scouts/2026-07-20/
LOCATION:Nichols Hills United Methodist Church\, 1212 Bedford Drive\, Nichols Hills\, OK\, 73116\, United States
END:VEVENT
BEGIN:VEVENT
DTSTART;TZID=America/Denver:20260726T090000
DTEND;TZID=America/Denver:20260726T100000
DTSTAMP:20260421T090922
CREATED:20240903T195039Z
LAST-MODIFIED:20260325T161714Z
UID:10006606-1785056400-1785060000@nicholshillsumc.org
SUMMARY:Sunday School
DESCRIPTION:Join us for Sunday School at 9:00 a.m.
URL:https://nicholshillsumc.org/event/sunday-school-2/2026-07-26/
LOCATION:Nichols Hills United Methodist Church\, 1212 Bedford Drive\, Nichols Hills\, OK\, 73116\, United States
END:VEVENT
END:VCALENDAR