BEGIN:VCALENDAR
VERSION:2.0
PRODID:-//Nichols Hills United Methodist Church - ECPv6.15.20//NONSGML v1.0//EN
CALSCALE:GREGORIAN
METHOD:PUBLISH
X-WR-CALNAME:Nichols Hills United Methodist Church
X-ORIGINAL-URL:https://nicholshillsumc.org
X-WR-CALDESC:Events for Nichols Hills United Methodist Church
REFRESH-INTERVAL;VALUE=DURATION:PT1H
X-Robots-Tag:noindex
X-PUBLISHED-TTL:PT1H
BEGIN:VTIMEZONE
TZID:America/Denver
BEGIN:DAYLIGHT
TZOFFSETFROM:-0700
TZOFFSETTO:-0600
TZNAME:MDT
DTSTART:20240310T090000
END:DAYLIGHT
BEGIN:STANDARD
TZOFFSETFROM:-0600
TZOFFSETTO:-0700
TZNAME:MST
DTSTART:20241103T080000
END:STANDARD
BEGIN:DAYLIGHT
TZOFFSETFROM:-0700
TZOFFSETTO:-0600
TZNAME:MDT
DTSTART:20250309T090000
END:DAYLIGHT
BEGIN:STANDARD
TZOFFSETFROM:-0600
TZOFFSETTO:-0700
TZNAME:MST
DTSTART:20251102T080000
END:STANDARD
BEGIN:DAYLIGHT
TZOFFSETFROM:-0700
TZOFFSETTO:-0600
TZNAME:MDT
DTSTART:20260308T090000
END:DAYLIGHT
BEGIN:STANDARD
TZOFFSETFROM:-0600
TZOFFSETTO:-0700
TZNAME:MST
DTSTART:20261101T080000
END:STANDARD
END:VTIMEZONE
BEGIN:VTIMEZONE
TZID:UTC
BEGIN:STANDARD
TZOFFSETFROM:+0000
TZOFFSETTO:+0000
TZNAME:UTC
DTSTART:20240101T000000
END:STANDARD
END:VTIMEZONE
BEGIN:VEVENT
DTSTART;TZID=America/Denver:20250523T080000
DTEND;TZID=America/Denver:20250523T170000
DTSTAMP:20260424T022047
CREATED:20240522T205506Z
LAST-MODIFIED:20250324T185231Z
UID:10006125-1747987200-1748019600@nicholshillsumc.org
SUMMARY:The Learning Center Last Day of Spring Session
DESCRIPTION:
URL:https://nicholshillsumc.org/event/the-learning-center-last-day-of-spring-session/
LOCATION:Nichols Hills United Methodist Church\, 1212 Bedford Drive\, Nichols Hills\, OK\, 73116\, United States
END:VEVENT
BEGIN:VEVENT
DTSTART;TZID=America/Denver:20250519T183000
DTEND;TZID=America/Denver:20250519T193000
DTSTAMP:20260424T022047
CREATED:20240207T200544Z
LAST-MODIFIED:20240207T200544Z
UID:10005664-1747679400-1747683000@nicholshillsumc.org
SUMMARY:Scouts
DESCRIPTION:
URL:https://nicholshillsumc.org/event/scouts/2025-05-19/
LOCATION:Nichols Hills United Methodist Church\, 1212 Bedford Drive\, Nichols Hills\, OK\, 73116\, United States
END:VEVENT
BEGIN:VEVENT
DTSTART;TZID=America/Denver:20250518T120000
DTEND;TZID=America/Denver:20250518T170000
DTSTAMP:20260424T022047
CREATED:20250324T185031Z
LAST-MODIFIED:20250324T185031Z
UID:10006917-1747569600-1747587600@nicholshillsumc.org
SUMMARY:The Learning Center Bash
DESCRIPTION:Join The Learning Center for their TLC Bash!
URL:https://nicholshillsumc.org/event/the-learning-center-bash/
LOCATION:Nichols Hills United Methodist Church\, 1212 Bedford Drive\, Nichols Hills\, OK\, 73116\, United States
END:VEVENT
BEGIN:VEVENT
DTSTART;TZID=America/Denver:20250518T100000
DTEND;TZID=America/Denver:20250518T110000
DTSTAMP:20260424T022047
CREATED:20240903T193220Z
LAST-MODIFIED:20260325T161617Z
UID:10006272-1747562400-1747566000@nicholshillsumc.org
SUMMARY:Worship Service at 10:00 a.m.
DESCRIPTION:Join us for worship at 10:00 a.m.
URL:https://nicholshillsumc.org/event/worship-service-at-1000-a-m-2/2025-05-18/
LOCATION:Nichols Hills United Methodist Church\, 1212 Bedford Drive\, Nichols Hills\, OK\, 73116\, United States
END:VEVENT
BEGIN:VEVENT
DTSTART;TZID=America/Denver:20250518T090000
DTEND;TZID=America/Denver:20250518T100000
DTSTAMP:20260424T022047
CREATED:20240903T195039Z
LAST-MODIFIED:20260325T161714Z
UID:10006544-1747558800-1747562400@nicholshillsumc.org
SUMMARY:Sunday School
DESCRIPTION:Join us for Sunday School at 9:00 a.m.
URL:https://nicholshillsumc.org/event/sunday-school-2/2025-05-18/
LOCATION:Nichols Hills United Methodist Church\, 1212 Bedford Drive\, Nichols Hills\, OK\, 73116\, United States
END:VEVENT
BEGIN:VEVENT
DTSTART;TZID=America/Denver:20250513T084500
DTEND;TZID=America/Denver:20250513T091500
DTSTAMP:20260424T022047
CREATED:20250324T184533Z
LAST-MODIFIED:20250324T184533Z
UID:10006916-1747125900-1747127700@nicholshillsumc.org
SUMMARY:The Learning Center's Muffins with Moms
DESCRIPTION:The Learning Center’s Muffins with Moms begins at 8:45 a.m. and ends at 9:15 a.m. It is come and go. Come have a muffin with your T.L.C. student!
URL:https://nicholshillsumc.org/event/the-learning-centers-muffins-with-moms/
LOCATION:Nichols Hills United Methodist Church\, 1212 Bedford Drive\, Nichols Hills\, OK\, 73116\, United States
END:VEVENT
BEGIN:VEVENT
DTSTART;TZID=America/Denver:20250512T183000
DTEND;TZID=America/Denver:20250512T193000
DTSTAMP:20260424T022047
CREATED:20240207T200544Z
LAST-MODIFIED:20240207T200544Z
UID:10005663-1747074600-1747078200@nicholshillsumc.org
SUMMARY:Scouts
DESCRIPTION:
URL:https://nicholshillsumc.org/event/scouts/2025-05-12/
LOCATION:Nichols Hills United Methodist Church\, 1212 Bedford Drive\, Nichols Hills\, OK\, 73116\, United States
END:VEVENT
BEGIN:VEVENT
DTSTART;TZID=America/Denver:20250511T100000
DTEND;TZID=America/Denver:20250511T110000
DTSTAMP:20260424T022047
CREATED:20240903T193220Z
LAST-MODIFIED:20260325T161617Z
UID:10006271-1746957600-1746961200@nicholshillsumc.org
SUMMARY:Worship Service at 10:00 a.m.
DESCRIPTION:Join us for worship at 10:00 a.m.
URL:https://nicholshillsumc.org/event/worship-service-at-1000-a-m-2/2025-05-11/
LOCATION:Nichols Hills United Methodist Church\, 1212 Bedford Drive\, Nichols Hills\, OK\, 73116\, United States
END:VEVENT
BEGIN:VEVENT
DTSTART;TZID=America/Denver:20250511T090000
DTEND;TZID=America/Denver:20250511T100000
DTSTAMP:20260424T022047
CREATED:20240903T195039Z
LAST-MODIFIED:20260325T161714Z
UID:10006543-1746954000-1746957600@nicholshillsumc.org
SUMMARY:Sunday School
DESCRIPTION:Join us for Sunday School at 9:00 a.m.
URL:https://nicholshillsumc.org/event/sunday-school-2/2025-05-11/
LOCATION:Nichols Hills United Methodist Church\, 1212 Bedford Drive\, Nichols Hills\, OK\, 73116\, United States
END:VEVENT
BEGIN:VEVENT
DTSTART;TZID=America/Denver:20250508T140000
DTEND;TZID=America/Denver:20250508T170000
DTSTAMP:20260424T022047
CREATED:20250430T191759Z
LAST-MODIFIED:20250430T191905Z
UID:10006926-1746712800-1746723600@nicholshillsumc.org
SUMMARY:Linda Rosser McDaniel presents Silhouette of a Territorial Lady
DESCRIPTION:
URL:https://nicholshillsumc.org/event/linda-rosser-mcdaniel-presents-silhouette-of-a-territorial-lady/
LOCATION:Nichols Hills United Methodist Church\, 1212 Bedford Drive\, Nichols Hills\, OK\, 73116\, United States
END:VEVENT
BEGIN:VEVENT
DTSTART;TZID=America/Denver:20250505T183000
DTEND;TZID=America/Denver:20250505T193000
DTSTAMP:20260424T022047
CREATED:20240207T200544Z
LAST-MODIFIED:20240207T200544Z
UID:10005662-1746469800-1746473400@nicholshillsumc.org
SUMMARY:Scouts
DESCRIPTION:
URL:https://nicholshillsumc.org/event/scouts/2025-05-05/
LOCATION:Nichols Hills United Methodist Church\, 1212 Bedford Drive\, Nichols Hills\, OK\, 73116\, United States
END:VEVENT
BEGIN:VEVENT
DTSTART;TZID=America/Denver:20250504T100000
DTEND;TZID=America/Denver:20250504T110000
DTSTAMP:20260424T022047
CREATED:20240903T193220Z
LAST-MODIFIED:20260325T161617Z
UID:10006270-1746352800-1746356400@nicholshillsumc.org
SUMMARY:Worship Service at 10:00 a.m.
DESCRIPTION:Join us for worship at 10:00 a.m.
URL:https://nicholshillsumc.org/event/worship-service-at-1000-a-m-2/2025-05-04/
LOCATION:Nichols Hills United Methodist Church\, 1212 Bedford Drive\, Nichols Hills\, OK\, 73116\, United States
END:VEVENT
BEGIN:VEVENT
DTSTART;TZID=America/Denver:20250504T090000
DTEND;TZID=America/Denver:20250504T100000
DTSTAMP:20260424T022047
CREATED:20240903T195039Z
LAST-MODIFIED:20260325T161714Z
UID:10006542-1746349200-1746352800@nicholshillsumc.org
SUMMARY:Sunday School
DESCRIPTION:Join us for Sunday School at 9:00 a.m.
URL:https://nicholshillsumc.org/event/sunday-school-2/2025-05-04/
LOCATION:Nichols Hills United Methodist Church\, 1212 Bedford Drive\, Nichols Hills\, OK\, 73116\, United States
END:VEVENT
BEGIN:VEVENT
DTSTART;TZID=America/Denver:20250428T183000
DTEND;TZID=America/Denver:20250428T193000
DTSTAMP:20260424T022047
CREATED:20240207T200544Z
LAST-MODIFIED:20240207T200544Z
UID:10005661-1745865000-1745868600@nicholshillsumc.org
SUMMARY:Scouts
DESCRIPTION:
URL:https://nicholshillsumc.org/event/scouts/2025-04-28/
LOCATION:Nichols Hills United Methodist Church\, 1212 Bedford Drive\, Nichols Hills\, OK\, 73116\, United States
END:VEVENT
BEGIN:VEVENT
DTSTART;TZID=UTC:20250427T090000
DTEND;TZID=UTC:20250427T120000
DTSTAMP:20260424T022047
CREATED:20150527T225112Z
LAST-MODIFIED:20250324T184110Z
UID:10002101-1745744400-1745755200@nicholshillsumc.org
SUMMARY:Worship - Marathon Sunday
DESCRIPTION:Marathon Sunday\, April 27\nBrunch and Outdoor Worship Service\nGather at 9:00 a.m. – Worship at 10:00 a.m. \nApril 27 is Marathon Sunday\, and we are moving our worship services outside! We will gather in the green space on the west side of Grand Boulevard\, just south of Bedford Drive at 9:00 a.m. Worship will be at 10:00 a.m. Look for the big tent and the bounce house. Our Praise Band\, the Bedford Collective\, will lead our music. We will cheer on the runners and enjoy tasty food before and after worship.\n* We will have a golf cart available to assist anyone who may need a ride from our parking lot to the gathering place.\n* We will have a bounce house\, face painting\, and other fun things for children.\n* Bring a breakfast dish to share\, lawn chairs\, and plan to dress casually.\n* If you would like to assist in the preparations\, please contact the church office at 405-842-1486.
URL:https://nicholshillsumc.org/event/marathon-sunday/
LOCATION:Nichols Hills United Methodist Church\, 1212 Bedford Drive\, Nichols Hills\, OK\, 73116\, United States
ATTACH;FMTTYPE=image/jpeg:https://nicholshillsumc.org/wp-content/uploads/2024/04/Memorial-Marathon-Slide-scaled.jpg
END:VEVENT
BEGIN:VEVENT
DTSTART;TZID=America/Denver:20250421T183000
DTEND;TZID=America/Denver:20250421T193000
DTSTAMP:20260424T022047
CREATED:20240207T200544Z
LAST-MODIFIED:20240207T200544Z
UID:10005660-1745260200-1745263800@nicholshillsumc.org
SUMMARY:Scouts
DESCRIPTION:
URL:https://nicholshillsumc.org/event/scouts/2025-04-21/
LOCATION:Nichols Hills United Methodist Church\, 1212 Bedford Drive\, Nichols Hills\, OK\, 73116\, United States
END:VEVENT
BEGIN:VEVENT
DTSTART;TZID=America/Denver:20250414T183000
DTEND;TZID=America/Denver:20250414T193000
DTSTAMP:20260424T022047
CREATED:20240207T200544Z
LAST-MODIFIED:20240207T200544Z
UID:10005659-1744655400-1744659000@nicholshillsumc.org
SUMMARY:Scouts
DESCRIPTION:
URL:https://nicholshillsumc.org/event/scouts/2025-04-14/
LOCATION:Nichols Hills United Methodist Church\, 1212 Bedford Drive\, Nichols Hills\, OK\, 73116\, United States
END:VEVENT
BEGIN:VEVENT
DTSTART;TZID=America/Denver:20250413T140000
DTEND;TZID=America/Denver:20250413T170000
DTSTAMP:20260424T022047
CREATED:20250324T165329Z
LAST-MODIFIED:20250324T165329Z
UID:10006855-1744552800-1744563600@nicholshillsumc.org
SUMMARY:Disney's The Little Mermaid - Sunday
DESCRIPTION:Bedford Theatre presents Disney’s The Little Mermaid \nClick the link below to purchase tickets!\nhttps://buytickets.at/bedfordtheatrenicholshillsunitedmethodistchurch/1595352
URL:https://nicholshillsumc.org/event/disneys-the-little-mermaid-sunday/
LOCATION:Nichols Hills United Methodist Church\, 1212 Bedford Drive\, Nichols Hills\, OK\, 73116\, United States
END:VEVENT
BEGIN:VEVENT
DTSTART;TZID=America/Denver:20250413T100000
DTEND;TZID=America/Denver:20250413T110000
DTSTAMP:20260424T022047
CREATED:20240903T193220Z
LAST-MODIFIED:20260325T161617Z
UID:10006267-1744538400-1744542000@nicholshillsumc.org
SUMMARY:Worship Service at 10:00 a.m.
DESCRIPTION:Join us for worship at 10:00 a.m.
URL:https://nicholshillsumc.org/event/worship-service-at-1000-a-m-2/2025-04-13/
LOCATION:Nichols Hills United Methodist Church\, 1212 Bedford Drive\, Nichols Hills\, OK\, 73116\, United States
END:VEVENT
BEGIN:VEVENT
DTSTART;TZID=America/Denver:20250413T090000
DTEND;TZID=America/Denver:20250413T100000
DTSTAMP:20260424T022047
CREATED:20240903T195039Z
LAST-MODIFIED:20260325T161714Z
UID:10006539-1744534800-1744538400@nicholshillsumc.org
SUMMARY:Sunday School
DESCRIPTION:Join us for Sunday School at 9:00 a.m.
URL:https://nicholshillsumc.org/event/sunday-school-2/2025-04-13/
LOCATION:Nichols Hills United Methodist Church\, 1212 Bedford Drive\, Nichols Hills\, OK\, 73116\, United States
END:VEVENT
BEGIN:VEVENT
DTSTART;TZID=America/Denver:20250412T190000
DTEND;TZID=America/Denver:20250412T210000
DTSTAMP:20260424T022047
CREATED:20250324T165248Z
LAST-MODIFIED:20250324T165248Z
UID:10006854-1744484400-1744491600@nicholshillsumc.org
SUMMARY:Disney's The Little Mermaid - Saturday
DESCRIPTION:Bedford Theatre presents Disney’s The Little Mermaid \nClick the link below to purchase tickets!\nhttps://buytickets.at/bedfordtheatrenicholshillsunitedmethodistchurch/1595352
URL:https://nicholshillsumc.org/event/disneys-the-little-mermaid-saturday/
LOCATION:Nichols Hills United Methodist Church\, 1212 Bedford Drive\, Nichols Hills\, OK\, 73116\, United States
END:VEVENT
BEGIN:VEVENT
DTSTART;TZID=America/Denver:20250411T190000
DTEND;TZID=America/Denver:20250411T210000
DTSTAMP:20260424T022047
CREATED:20250324T165207Z
LAST-MODIFIED:20250324T165207Z
UID:10006853-1744398000-1744405200@nicholshillsumc.org
SUMMARY:Disney's The Little Mermaid - Friday
DESCRIPTION:Bedford Theatre presents Disney’s The Little Mermaid \nClick the link below to purchase tickets!\nhttps://buytickets.at/bedfordtheatrenicholshillsunitedmethodistchurch/1595352
URL:https://nicholshillsumc.org/event/disneys-the-little-mermaid-friday/
LOCATION:Nichols Hills United Methodist Church\, 1212 Bedford Drive\, Nichols Hills\, OK\, 73116\, United States
END:VEVENT
BEGIN:VEVENT
DTSTART;TZID=America/Denver:20250407T183000
DTEND;TZID=America/Denver:20250407T193000
DTSTAMP:20260424T022047
CREATED:20240207T200544Z
LAST-MODIFIED:20240207T200544Z
UID:10005658-1744050600-1744054200@nicholshillsumc.org
SUMMARY:Scouts
DESCRIPTION:
URL:https://nicholshillsumc.org/event/scouts/2025-04-07/
LOCATION:Nichols Hills United Methodist Church\, 1212 Bedford Drive\, Nichols Hills\, OK\, 73116\, United States
END:VEVENT
BEGIN:VEVENT
DTSTART;TZID=America/Denver:20250406T100000
DTEND;TZID=America/Denver:20250406T110000
DTSTAMP:20260424T022048
CREATED:20240903T193220Z
LAST-MODIFIED:20260325T161617Z
UID:10006266-1743933600-1743937200@nicholshillsumc.org
SUMMARY:Worship Service at 10:00 a.m.
DESCRIPTION:Join us for worship at 10:00 a.m.
URL:https://nicholshillsumc.org/event/worship-service-at-1000-a-m-2/2025-04-06/
LOCATION:Nichols Hills United Methodist Church\, 1212 Bedford Drive\, Nichols Hills\, OK\, 73116\, United States
END:VEVENT
BEGIN:VEVENT
DTSTART;TZID=America/Denver:20250406T090000
DTEND;TZID=America/Denver:20250406T100000
DTSTAMP:20260424T022048
CREATED:20240903T195039Z
LAST-MODIFIED:20260325T161714Z
UID:10006538-1743930000-1743933600@nicholshillsumc.org
SUMMARY:Sunday School
DESCRIPTION:Join us for Sunday School at 9:00 a.m.
URL:https://nicholshillsumc.org/event/sunday-school-2/2025-04-06/
LOCATION:Nichols Hills United Methodist Church\, 1212 Bedford Drive\, Nichols Hills\, OK\, 73116\, United States
END:VEVENT
BEGIN:VEVENT
DTSTART;TZID=America/Denver:20250331T183000
DTEND;TZID=America/Denver:20250331T193000
DTSTAMP:20260424T022048
CREATED:20240207T200544Z
LAST-MODIFIED:20240207T200544Z
UID:10005657-1743445800-1743449400@nicholshillsumc.org
SUMMARY:Scouts
DESCRIPTION:
URL:https://nicholshillsumc.org/event/scouts/2025-03-31/
LOCATION:Nichols Hills United Methodist Church\, 1212 Bedford Drive\, Nichols Hills\, OK\, 73116\, United States
END:VEVENT
BEGIN:VEVENT
DTSTART;TZID=America/Denver:20250330T100000
DTEND;TZID=America/Denver:20250330T110000
DTSTAMP:20260424T022048
CREATED:20240903T193220Z
LAST-MODIFIED:20260325T161617Z
UID:10006265-1743328800-1743332400@nicholshillsumc.org
SUMMARY:Worship Service at 10:00 a.m.
DESCRIPTION:Join us for worship at 10:00 a.m.
URL:https://nicholshillsumc.org/event/worship-service-at-1000-a-m-2/2025-03-30/
LOCATION:Nichols Hills United Methodist Church\, 1212 Bedford Drive\, Nichols Hills\, OK\, 73116\, United States
END:VEVENT
BEGIN:VEVENT
DTSTART;TZID=America/Denver:20250330T090000
DTEND;TZID=America/Denver:20250330T100000
DTSTAMP:20260424T022048
CREATED:20240903T195039Z
LAST-MODIFIED:20260325T161714Z
UID:10006537-1743325200-1743328800@nicholshillsumc.org
SUMMARY:Sunday School
DESCRIPTION:Join us for Sunday School at 9:00 a.m.
URL:https://nicholshillsumc.org/event/sunday-school-2/2025-03-30/
LOCATION:Nichols Hills United Methodist Church\, 1212 Bedford Drive\, Nichols Hills\, OK\, 73116\, United States
END:VEVENT
BEGIN:VEVENT
DTSTART;TZID=America/Denver:20250326T180000
DTEND;TZID=America/Denver:20250326T200000
DTSTAMP:20260424T022048
CREATED:20240813T192617Z
LAST-MODIFIED:20250324T182857Z
UID:10006193-1743012000-1743019200@nicholshillsumc.org
SUMMARY:Thrive Wednesday Night Ministry
DESCRIPTION:Join us for our Thrive ministry on Wednesday evenings. We will have dinner and rotating classes to choose from that will focus on Mind\, Body\, and Spirit. Call the church office at 405-842-1486 for more information.
URL:https://nicholshillsumc.org/event/thrive-wednesday-night-ministry/2025-03-26/
LOCATION:Nichols Hills United Methodist Church\, 1212 Bedford Drive\, Nichols Hills\, OK\, 73116\, United States
ATTACH;FMTTYPE=image/jpeg:https://nicholshillsumc.org/wp-content/uploads/2024/08/Thrive-Slide.jpg
END:VEVENT
BEGIN:VEVENT
DTSTART;TZID=America/Denver:20250324T183000
DTEND;TZID=America/Denver:20250324T193000
DTSTAMP:20260424T022048
CREATED:20240207T200544Z
LAST-MODIFIED:20240207T200544Z
UID:10005656-1742841000-1742844600@nicholshillsumc.org
SUMMARY:Scouts
DESCRIPTION:
URL:https://nicholshillsumc.org/event/scouts/2025-03-24/
LOCATION:Nichols Hills United Methodist Church\, 1212 Bedford Drive\, Nichols Hills\, OK\, 73116\, United States
END:VEVENT
END:VCALENDAR