BEGIN:VCALENDAR
VERSION:2.0
PRODID:-//Nichols Hills United Methodist Church - ECPv6.15.20//NONSGML v1.0//EN
CALSCALE:GREGORIAN
METHOD:PUBLISH
X-ORIGINAL-URL:https://nicholshillsumc.org
X-WR-CALDESC:Events for Nichols Hills United Methodist Church
REFRESH-INTERVAL;VALUE=DURATION:PT1H
X-Robots-Tag:noindex
X-PUBLISHED-TTL:PT1H
BEGIN:VTIMEZONE
TZID:America/Denver
BEGIN:DAYLIGHT
TZOFFSETFROM:-0700
TZOFFSETTO:-0600
TZNAME:MDT
DTSTART:20240310T090000
END:DAYLIGHT
BEGIN:STANDARD
TZOFFSETFROM:-0600
TZOFFSETTO:-0700
TZNAME:MST
DTSTART:20241103T080000
END:STANDARD
BEGIN:DAYLIGHT
TZOFFSETFROM:-0700
TZOFFSETTO:-0600
TZNAME:MDT
DTSTART:20250309T090000
END:DAYLIGHT
BEGIN:STANDARD
TZOFFSETFROM:-0600
TZOFFSETTO:-0700
TZNAME:MST
DTSTART:20251102T080000
END:STANDARD
BEGIN:DAYLIGHT
TZOFFSETFROM:-0700
TZOFFSETTO:-0600
TZNAME:MDT
DTSTART:20260308T090000
END:DAYLIGHT
BEGIN:STANDARD
TZOFFSETFROM:-0600
TZOFFSETTO:-0700
TZNAME:MST
DTSTART:20261101T080000
END:STANDARD
END:VTIMEZONE
BEGIN:VTIMEZONE
TZID:UTC
BEGIN:STANDARD
TZOFFSETFROM:+0000
TZOFFSETTO:+0000
TZNAME:UTC
DTSTART:20240101T000000
END:STANDARD
END:VTIMEZONE
BEGIN:VEVENT
DTSTART;TZID=America/Denver:20250924T180000
DTEND;TZID=America/Denver:20250924T200000
DTSTAMP:20260423T153905
CREATED:20250821T202910Z
LAST-MODIFIED:20250821T203110Z
UID:10007271-1758736800-1758744000@nicholshillsumc.org
SUMMARY:Thrive Wednesday Night Ministry
DESCRIPTION:Join us for our Thrive ministry on Wednesday evenings. We will have dinner and rotating classes to choose from that will focus on Mind\, Body\, and Spirit. Call the church office at 405-842-1486 for more information.
URL:https://nicholshillsumc.org/event/thrive-wednesday-night-ministry-2/2025-09-24/
LOCATION:Nichols Hills United Methodist Church\, 1212 Bedford Drive\, Nichols Hills\, OK\, 73116\, United States
ATTACH;FMTTYPE=image/jpeg:https://nicholshillsumc.org/wp-content/uploads/2024/08/Thrive-Slide.jpg
END:VEVENT
BEGIN:VEVENT
DTSTART;TZID=America/Denver:20250922T183000
DTEND;TZID=America/Denver:20250922T193000
DTSTAMP:20260423T153905
CREATED:20240207T200544Z
LAST-MODIFIED:20240207T200544Z
UID:10005682-1758565800-1758569400@nicholshillsumc.org
SUMMARY:Scouts
DESCRIPTION:
URL:https://nicholshillsumc.org/event/scouts/2025-09-22/
LOCATION:Nichols Hills United Methodist Church\, 1212 Bedford Drive\, Nichols Hills\, OK\, 73116\, United States
END:VEVENT
BEGIN:VEVENT
DTSTART;TZID=America/Denver:20250921T100000
DTEND;TZID=America/Denver:20250921T110000
DTSTAMP:20260423T153905
CREATED:20240903T193220Z
LAST-MODIFIED:20260325T161617Z
UID:10006290-1758448800-1758452400@nicholshillsumc.org
SUMMARY:Worship Service at 10:00 a.m.
DESCRIPTION:Join us for worship at 10:00 a.m.
URL:https://nicholshillsumc.org/event/worship-service-at-1000-a-m-2/2025-09-21/
LOCATION:Nichols Hills United Methodist Church\, 1212 Bedford Drive\, Nichols Hills\, OK\, 73116\, United States
END:VEVENT
BEGIN:VEVENT
DTSTART;TZID=America/Denver:20250921T090000
DTEND;TZID=America/Denver:20250921T100000
DTSTAMP:20260423T153905
CREATED:20240903T195039Z
LAST-MODIFIED:20260325T161714Z
UID:10006562-1758445200-1758448800@nicholshillsumc.org
SUMMARY:Sunday School
DESCRIPTION:Join us for Sunday School at 9:00 a.m.
URL:https://nicholshillsumc.org/event/sunday-school-2/2025-09-21/
LOCATION:Nichols Hills United Methodist Church\, 1212 Bedford Drive\, Nichols Hills\, OK\, 73116\, United States
END:VEVENT
BEGIN:VEVENT
DTSTART;TZID=America/Denver:20250917T180000
DTEND;TZID=America/Denver:20250917T200000
DTSTAMP:20260423T153905
CREATED:20250821T202910Z
LAST-MODIFIED:20250821T203110Z
UID:10006194-1758132000-1758139200@nicholshillsumc.org
SUMMARY:Thrive Wednesday Night Ministry
DESCRIPTION:Join us for our Thrive ministry on Wednesday evenings. We will have dinner and rotating classes to choose from that will focus on Mind\, Body\, and Spirit. Call the church office at 405-842-1486 for more information.
URL:https://nicholshillsumc.org/event/thrive-wednesday-night-ministry-2/2025-09-17/
LOCATION:Nichols Hills United Methodist Church\, 1212 Bedford Drive\, Nichols Hills\, OK\, 73116\, United States
ATTACH;FMTTYPE=image/jpeg:https://nicholshillsumc.org/wp-content/uploads/2024/08/Thrive-Slide.jpg
END:VEVENT
BEGIN:VEVENT
DTSTART;TZID=America/Denver:20250915T183000
DTEND;TZID=America/Denver:20250915T193000
DTSTAMP:20260423T153905
CREATED:20240207T200544Z
LAST-MODIFIED:20240207T200544Z
UID:10005681-1757961000-1757964600@nicholshillsumc.org
SUMMARY:Scouts
DESCRIPTION:
URL:https://nicholshillsumc.org/event/scouts/2025-09-15/
LOCATION:Nichols Hills United Methodist Church\, 1212 Bedford Drive\, Nichols Hills\, OK\, 73116\, United States
END:VEVENT
BEGIN:VEVENT
DTSTART;TZID=America/Denver:20250914T100000
DTEND;TZID=America/Denver:20250914T110000
DTSTAMP:20260423T153905
CREATED:20240903T193220Z
LAST-MODIFIED:20260325T161617Z
UID:10006289-1757844000-1757847600@nicholshillsumc.org
SUMMARY:Worship Service at 10:00 a.m.
DESCRIPTION:Join us for worship at 10:00 a.m.
URL:https://nicholshillsumc.org/event/worship-service-at-1000-a-m-2/2025-09-14/
LOCATION:Nichols Hills United Methodist Church\, 1212 Bedford Drive\, Nichols Hills\, OK\, 73116\, United States
END:VEVENT
BEGIN:VEVENT
DTSTART;TZID=America/Denver:20250914T090000
DTEND;TZID=America/Denver:20250914T100000
DTSTAMP:20260423T153905
CREATED:20240903T195039Z
LAST-MODIFIED:20260325T161714Z
UID:10006561-1757840400-1757844000@nicholshillsumc.org
SUMMARY:Sunday School
DESCRIPTION:Join us for Sunday School at 9:00 a.m.
URL:https://nicholshillsumc.org/event/sunday-school-2/2025-09-14/
LOCATION:Nichols Hills United Methodist Church\, 1212 Bedford Drive\, Nichols Hills\, OK\, 73116\, United States
END:VEVENT
BEGIN:VEVENT
DTSTART;TZID=America/Denver:20250908T183000
DTEND;TZID=America/Denver:20250908T193000
DTSTAMP:20260423T153905
CREATED:20240207T200544Z
LAST-MODIFIED:20240207T200544Z
UID:10005680-1757356200-1757359800@nicholshillsumc.org
SUMMARY:Scouts
DESCRIPTION:
URL:https://nicholshillsumc.org/event/scouts/2025-09-08/
LOCATION:Nichols Hills United Methodist Church\, 1212 Bedford Drive\, Nichols Hills\, OK\, 73116\, United States
END:VEVENT
BEGIN:VEVENT
DTSTART;TZID=America/Denver:20250907T100000
DTEND;TZID=America/Denver:20250907T110000
DTSTAMP:20260423T153905
CREATED:20240903T193220Z
LAST-MODIFIED:20260325T161617Z
UID:10006288-1757239200-1757242800@nicholshillsumc.org
SUMMARY:Worship Service at 10:00 a.m.
DESCRIPTION:Join us for worship at 10:00 a.m.
URL:https://nicholshillsumc.org/event/worship-service-at-1000-a-m-2/2025-09-07/
LOCATION:Nichols Hills United Methodist Church\, 1212 Bedford Drive\, Nichols Hills\, OK\, 73116\, United States
END:VEVENT
BEGIN:VEVENT
DTSTART;TZID=America/Denver:20250907T090000
DTEND;TZID=America/Denver:20250907T100000
DTSTAMP:20260423T153905
CREATED:20240903T195039Z
LAST-MODIFIED:20260325T161714Z
UID:10006560-1757235600-1757239200@nicholshillsumc.org
SUMMARY:Sunday School
DESCRIPTION:Join us for Sunday School at 9:00 a.m.
URL:https://nicholshillsumc.org/event/sunday-school-2/2025-09-07/
LOCATION:Nichols Hills United Methodist Church\, 1212 Bedford Drive\, Nichols Hills\, OK\, 73116\, United States
END:VEVENT
BEGIN:VEVENT
DTSTART;TZID=America/Denver:20250901T183000
DTEND;TZID=America/Denver:20250901T193000
DTSTAMP:20260423T153905
CREATED:20240207T200544Z
LAST-MODIFIED:20240207T200544Z
UID:10005679-1756751400-1756755000@nicholshillsumc.org
SUMMARY:Scouts
DESCRIPTION:
URL:https://nicholshillsumc.org/event/scouts/2025-09-01/
LOCATION:Nichols Hills United Methodist Church\, 1212 Bedford Drive\, Nichols Hills\, OK\, 73116\, United States
END:VEVENT
BEGIN:VEVENT
DTSTART;TZID=America/Denver:20250831T100000
DTEND;TZID=America/Denver:20250831T110000
DTSTAMP:20260423T153905
CREATED:20240903T193220Z
LAST-MODIFIED:20260325T161617Z
UID:10006287-1756634400-1756638000@nicholshillsumc.org
SUMMARY:Worship Service at 10:00 a.m.
DESCRIPTION:Join us for worship at 10:00 a.m.
URL:https://nicholshillsumc.org/event/worship-service-at-1000-a-m-2/2025-08-31/
LOCATION:Nichols Hills United Methodist Church\, 1212 Bedford Drive\, Nichols Hills\, OK\, 73116\, United States
END:VEVENT
BEGIN:VEVENT
DTSTART;TZID=America/Denver:20250831T090000
DTEND;TZID=America/Denver:20250831T100000
DTSTAMP:20260423T153905
CREATED:20240903T195039Z
LAST-MODIFIED:20260325T161714Z
UID:10006559-1756630800-1756634400@nicholshillsumc.org
SUMMARY:Sunday School
DESCRIPTION:Join us for Sunday School at 9:00 a.m.
URL:https://nicholshillsumc.org/event/sunday-school-2/2025-08-31/
LOCATION:Nichols Hills United Methodist Church\, 1212 Bedford Drive\, Nichols Hills\, OK\, 73116\, United States
END:VEVENT
BEGIN:VEVENT
DTSTART;TZID=America/Denver:20250825T183000
DTEND;TZID=America/Denver:20250825T193000
DTSTAMP:20260423T153905
CREATED:20240207T200544Z
LAST-MODIFIED:20240207T200544Z
UID:10005678-1756146600-1756150200@nicholshillsumc.org
SUMMARY:Scouts
DESCRIPTION:
URL:https://nicholshillsumc.org/event/scouts/2025-08-25/
LOCATION:Nichols Hills United Methodist Church\, 1212 Bedford Drive\, Nichols Hills\, OK\, 73116\, United States
END:VEVENT
BEGIN:VEVENT
DTSTART;TZID=America/Denver:20250824T100000
DTEND;TZID=America/Denver:20250824T110000
DTSTAMP:20260423T153905
CREATED:20240903T193220Z
LAST-MODIFIED:20260325T161617Z
UID:10006286-1756029600-1756033200@nicholshillsumc.org
SUMMARY:Worship Service at 10:00 a.m.
DESCRIPTION:Join us for worship at 10:00 a.m.
URL:https://nicholshillsumc.org/event/worship-service-at-1000-a-m-2/2025-08-24/
LOCATION:Nichols Hills United Methodist Church\, 1212 Bedford Drive\, Nichols Hills\, OK\, 73116\, United States
END:VEVENT
BEGIN:VEVENT
DTSTART;TZID=America/Denver:20250824T090000
DTEND;TZID=America/Denver:20250824T100000
DTSTAMP:20260423T153905
CREATED:20240903T195039Z
LAST-MODIFIED:20260325T161714Z
UID:10006558-1756026000-1756029600@nicholshillsumc.org
SUMMARY:Sunday School
DESCRIPTION:Join us for Sunday School at 9:00 a.m.
URL:https://nicholshillsumc.org/event/sunday-school-2/2025-08-24/
LOCATION:Nichols Hills United Methodist Church\, 1212 Bedford Drive\, Nichols Hills\, OK\, 73116\, United States
END:VEVENT
BEGIN:VEVENT
DTSTART;TZID=America/Denver:20250818T183000
DTEND;TZID=America/Denver:20250818T193000
DTSTAMP:20260423T153906
CREATED:20240207T200544Z
LAST-MODIFIED:20240207T200544Z
UID:10005677-1755541800-1755545400@nicholshillsumc.org
SUMMARY:Scouts
DESCRIPTION:
URL:https://nicholshillsumc.org/event/scouts/2025-08-18/
LOCATION:Nichols Hills United Methodist Church\, 1212 Bedford Drive\, Nichols Hills\, OK\, 73116\, United States
END:VEVENT
BEGIN:VEVENT
DTSTART;TZID=America/Denver:20250817T100000
DTEND;TZID=America/Denver:20250817T110000
DTSTAMP:20260423T153906
CREATED:20240903T193220Z
LAST-MODIFIED:20260325T161617Z
UID:10006285-1755424800-1755428400@nicholshillsumc.org
SUMMARY:Worship Service at 10:00 a.m.
DESCRIPTION:Join us for worship at 10:00 a.m.
URL:https://nicholshillsumc.org/event/worship-service-at-1000-a-m-2/2025-08-17/
LOCATION:Nichols Hills United Methodist Church\, 1212 Bedford Drive\, Nichols Hills\, OK\, 73116\, United States
END:VEVENT
BEGIN:VEVENT
DTSTART;TZID=America/Denver:20250817T090000
DTEND;TZID=America/Denver:20250817T100000
DTSTAMP:20260423T153906
CREATED:20240903T195039Z
LAST-MODIFIED:20260325T161714Z
UID:10006557-1755421200-1755424800@nicholshillsumc.org
SUMMARY:Sunday School
DESCRIPTION:Join us for Sunday School at 9:00 a.m.
URL:https://nicholshillsumc.org/event/sunday-school-2/2025-08-17/
LOCATION:Nichols Hills United Methodist Church\, 1212 Bedford Drive\, Nichols Hills\, OK\, 73116\, United States
END:VEVENT
BEGIN:VEVENT
DTSTART;TZID=America/Denver:20250811T183000
DTEND;TZID=America/Denver:20250811T193000
DTSTAMP:20260423T153906
CREATED:20240207T200544Z
LAST-MODIFIED:20240207T200544Z
UID:10005676-1754937000-1754940600@nicholshillsumc.org
SUMMARY:Scouts
DESCRIPTION:
URL:https://nicholshillsumc.org/event/scouts/2025-08-11/
LOCATION:Nichols Hills United Methodist Church\, 1212 Bedford Drive\, Nichols Hills\, OK\, 73116\, United States
END:VEVENT
BEGIN:VEVENT
DTSTART;TZID=America/Denver:20250810T100000
DTEND;TZID=America/Denver:20250810T110000
DTSTAMP:20260423T153906
CREATED:20240903T193220Z
LAST-MODIFIED:20260325T161617Z
UID:10006284-1754820000-1754823600@nicholshillsumc.org
SUMMARY:Worship Service at 10:00 a.m.
DESCRIPTION:Join us for worship at 10:00 a.m.
URL:https://nicholshillsumc.org/event/worship-service-at-1000-a-m-2/2025-08-10/
LOCATION:Nichols Hills United Methodist Church\, 1212 Bedford Drive\, Nichols Hills\, OK\, 73116\, United States
END:VEVENT
BEGIN:VEVENT
DTSTART;TZID=America/Denver:20250810T090000
DTEND;TZID=America/Denver:20250810T100000
DTSTAMP:20260423T153906
CREATED:20240903T195039Z
LAST-MODIFIED:20260325T161714Z
UID:10006556-1754816400-1754820000@nicholshillsumc.org
SUMMARY:Sunday School
DESCRIPTION:Join us for Sunday School at 9:00 a.m.
URL:https://nicholshillsumc.org/event/sunday-school-2/2025-08-10/
LOCATION:Nichols Hills United Methodist Church\, 1212 Bedford Drive\, Nichols Hills\, OK\, 73116\, United States
END:VEVENT
BEGIN:VEVENT
DTSTART;TZID=America/Denver:20250804T183000
DTEND;TZID=America/Denver:20250804T193000
DTSTAMP:20260423T153906
CREATED:20240207T200544Z
LAST-MODIFIED:20240207T200544Z
UID:10005675-1754332200-1754335800@nicholshillsumc.org
SUMMARY:Scouts
DESCRIPTION:
URL:https://nicholshillsumc.org/event/scouts/2025-08-04/
LOCATION:Nichols Hills United Methodist Church\, 1212 Bedford Drive\, Nichols Hills\, OK\, 73116\, United States
END:VEVENT
BEGIN:VEVENT
DTSTART;TZID=UTC:20250804T090000
DTEND;TZID=UTC:20250804T143000
DTSTAMP:20260423T153906
CREATED:20150730T220738Z
LAST-MODIFIED:20250324T191328Z
UID:10002116-1754298000-1754317800@nicholshillsumc.org
SUMMARY:The Learning Center - Fall Session Begins
DESCRIPTION:
URL:https://nicholshillsumc.org/event/the-learning-center-fall-session-2/
LOCATION:Nichols Hills United Methodist Church\, 1212 Bedford Drive\, Nichols Hills\, OK\, 73116\, United States
END:VEVENT
BEGIN:VEVENT
DTSTART;TZID=America/Denver:20250803T140000
DTEND;TZID=America/Denver:20250803T160000
DTSTAMP:20260423T153906
CREATED:20250324T190752Z
LAST-MODIFIED:20250716T210003Z
UID:10006929-1754229600-1754236800@nicholshillsumc.org
SUMMARY:Performance - Bedford Theatre JR Presents Matilda JR
DESCRIPTION:Bedford Theatre @ Nichols Hills United Methodist Church Presents:\nMatilda the Musical Jr!\n\nAugust 1st @ 7:00 p.m.\nAugust 2nd @ 7:00 p.m.\nAugust 3rd @ 2:00 p.m.\n\n\n\n\nPurchase Tickets By Clicking Here\n\n\nLocation:\nBedford Theatre @ Nichols Hills United Methodist Church\n1212 Bedford Drive\nNichols Hills\, OK  73116
URL:https://nicholshillsumc.org/event/performance-bedford-theatre-jr-presents-matilda-jr/2025-08-03/
LOCATION:Nichols Hills United Methodist Church\, 1212 Bedford Drive\, Nichols Hills\, OK\, 73116\, United States
ATTACH;FMTTYPE=image/jpeg:https://nicholshillsumc.org/wp-content/uploads/2025/07/Bedford-Theatre-JR-Matilda-Banner-scaled.jpg
END:VEVENT
BEGIN:VEVENT
DTSTART;TZID=America/Denver:20250803T100000
DTEND;TZID=America/Denver:20250803T110000
DTSTAMP:20260423T153906
CREATED:20240903T193220Z
LAST-MODIFIED:20260325T161617Z
UID:10006283-1754215200-1754218800@nicholshillsumc.org
SUMMARY:Worship Service at 10:00 a.m.
DESCRIPTION:Join us for worship at 10:00 a.m.
URL:https://nicholshillsumc.org/event/worship-service-at-1000-a-m-2/2025-08-03/
LOCATION:Nichols Hills United Methodist Church\, 1212 Bedford Drive\, Nichols Hills\, OK\, 73116\, United States
END:VEVENT
BEGIN:VEVENT
DTSTART;TZID=America/Denver:20250803T090000
DTEND;TZID=America/Denver:20250803T100000
DTSTAMP:20260423T153906
CREATED:20240903T195039Z
LAST-MODIFIED:20260325T161714Z
UID:10006555-1754211600-1754215200@nicholshillsumc.org
SUMMARY:Sunday School
DESCRIPTION:Join us for Sunday School at 9:00 a.m.
URL:https://nicholshillsumc.org/event/sunday-school-2/2025-08-03/
LOCATION:Nichols Hills United Methodist Church\, 1212 Bedford Drive\, Nichols Hills\, OK\, 73116\, United States
END:VEVENT
BEGIN:VEVENT
DTSTART;TZID=America/Denver:20250802T190000
DTEND;TZID=America/Denver:20250802T210000
DTSTAMP:20260423T153906
CREATED:20250324T190752Z
LAST-MODIFIED:20250716T210003Z
UID:10006928-1754161200-1754168400@nicholshillsumc.org
SUMMARY:Performance - Bedford Theatre JR Presents Matilda JR
DESCRIPTION:Bedford Theatre @ Nichols Hills United Methodist Church Presents:\nMatilda the Musical Jr!\n\nAugust 1st @ 7:00 p.m.\nAugust 2nd @ 7:00 p.m.\nAugust 3rd @ 2:00 p.m.\n\n\n\n\nPurchase Tickets By Clicking Here\n\n\nLocation:\nBedford Theatre @ Nichols Hills United Methodist Church\n1212 Bedford Drive\nNichols Hills\, OK  73116
URL:https://nicholshillsumc.org/event/performance-bedford-theatre-jr-presents-matilda-jr/2025-08-02/
LOCATION:Nichols Hills United Methodist Church\, 1212 Bedford Drive\, Nichols Hills\, OK\, 73116\, United States
ATTACH;FMTTYPE=image/jpeg:https://nicholshillsumc.org/wp-content/uploads/2025/07/Bedford-Theatre-JR-Matilda-Banner-scaled.jpg
END:VEVENT
BEGIN:VEVENT
DTSTART;TZID=America/Denver:20250801T190000
DTEND;TZID=America/Denver:20250801T210000
DTSTAMP:20260423T153906
CREATED:20250324T190752Z
LAST-MODIFIED:20250716T210003Z
UID:10006924-1754074800-1754082000@nicholshillsumc.org
SUMMARY:Performance - Bedford Theatre JR Presents Matilda JR
DESCRIPTION:Bedford Theatre @ Nichols Hills United Methodist Church Presents:\nMatilda the Musical Jr!\n\nAugust 1st @ 7:00 p.m.\nAugust 2nd @ 7:00 p.m.\nAugust 3rd @ 2:00 p.m.\n\n\n\n\nPurchase Tickets By Clicking Here\n\n\nLocation:\nBedford Theatre @ Nichols Hills United Methodist Church\n1212 Bedford Drive\nNichols Hills\, OK  73116
URL:https://nicholshillsumc.org/event/performance-bedford-theatre-jr-presents-matilda-jr/2025-08-01/
LOCATION:Nichols Hills United Methodist Church\, 1212 Bedford Drive\, Nichols Hills\, OK\, 73116\, United States
ATTACH;FMTTYPE=image/jpeg:https://nicholshillsumc.org/wp-content/uploads/2025/07/Bedford-Theatre-JR-Matilda-Banner-scaled.jpg
END:VEVENT
END:VCALENDAR