BEGIN:VCALENDAR
VERSION:2.0
PRODID:-//Nichols Hills United Methodist Church - ECPv6.15.20//NONSGML v1.0//EN
CALSCALE:GREGORIAN
METHOD:PUBLISH
X-WR-CALNAME:Nichols Hills United Methodist Church
X-ORIGINAL-URL:https://nicholshillsumc.org
X-WR-CALDESC:Events for Nichols Hills United Methodist Church
REFRESH-INTERVAL;VALUE=DURATION:PT1H
X-Robots-Tag:noindex
X-PUBLISHED-TTL:PT1H
BEGIN:VTIMEZONE
TZID:UTC
BEGIN:STANDARD
TZOFFSETFROM:+0000
TZOFFSETTO:+0000
TZNAME:UTC
DTSTART:20190101T000000
END:STANDARD
END:VTIMEZONE
BEGIN:VEVENT
DTSTART;TZID=UTC:20200202T121500
DTEND;TZID=UTC:20200202T151500
DTSTAMP:20260423T085929
CREATED:20150505T033456Z
LAST-MODIFIED:20200201T024212Z
UID:10002093-1580645700-1580656500@nicholshillsumc.org
SUMMARY:Altar Guild Meeting
DESCRIPTION:
URL:https://nicholshillsumc.org/event/altar-guild-meeting/
LOCATION:Nichols Hills United Methodist Church\, 1212 Bedford Drive\, Nichols Hills\, OK\, 73116\, United States
END:VEVENT
BEGIN:VEVENT
DTSTART;TZID=UTC:20200202T170000
DTEND;TZID=UTC:20200202T190000
DTSTAMP:20260423T085929
CREATED:20150730T223554Z
LAST-MODIFIED:20250117T171930Z
UID:10004782-1580662800-1580670000@nicholshillsumc.org
SUMMARY:Youth Group
DESCRIPTION:Join us for Youth at 5:00 p.m. on Sundays.
URL:https://nicholshillsumc.org/event/youth-group/2020-02-02/
LOCATION:OK
END:VEVENT
BEGIN:VEVENT
DTSTART;TZID=UTC:20200209T170000
DTEND;TZID=UTC:20200209T190000
DTSTAMP:20260423T085929
CREATED:20150730T223554Z
LAST-MODIFIED:20250117T171930Z
UID:10004783-1581267600-1581274800@nicholshillsumc.org
SUMMARY:Youth Group
DESCRIPTION:Join us for Youth at 5:00 p.m. on Sundays.
URL:https://nicholshillsumc.org/event/youth-group/2020-02-09/
LOCATION:OK
END:VEVENT
BEGIN:VEVENT
DTSTART;TZID=UTC:20200216T170000
DTEND;TZID=UTC:20200216T190000
DTSTAMP:20260423T085929
CREATED:20150730T223554Z
LAST-MODIFIED:20250117T171930Z
UID:10004784-1581872400-1581879600@nicholshillsumc.org
SUMMARY:Youth Group
DESCRIPTION:Join us for Youth at 5:00 p.m. on Sundays.
URL:https://nicholshillsumc.org/event/youth-group/2020-02-16/
LOCATION:OK
END:VEVENT
BEGIN:VEVENT
DTSTART;TZID=UTC:20200223T083000
DTEND;TZID=UTC:20200223T120000
DTSTAMP:20260423T085929
CREATED:20200114T005948Z
LAST-MODIFIED:20200114T005948Z
UID:10002648-1582446600-1582459200@nicholshillsumc.org
SUMMARY:Scout Sunday
DESCRIPTION:
URL:https://nicholshillsumc.org/event/scout-sunday/
LOCATION:OK
END:VEVENT
BEGIN:VEVENT
DTSTART;TZID=UTC:20200223T170000
DTEND;TZID=UTC:20200223T190000
DTSTAMP:20260423T085929
CREATED:20150730T223554Z
LAST-MODIFIED:20250117T171930Z
UID:10004785-1582477200-1582484400@nicholshillsumc.org
SUMMARY:Youth Group
DESCRIPTION:Join us for Youth at 5:00 p.m. on Sundays.
URL:https://nicholshillsumc.org/event/youth-group/2020-02-23/
LOCATION:OK
END:VEVENT
BEGIN:VEVENT
DTSTART;TZID=UTC:20200226T173000
DTEND;TZID=UTC:20200226T183000
DTSTAMP:20260423T085929
CREATED:20190216T052346Z
LAST-MODIFIED:20200211T025712Z
UID:10002638-1582738200-1582741800@nicholshillsumc.org
SUMMARY:Ash Wednesday Dinner
DESCRIPTION:
URL:https://nicholshillsumc.org/event/ash-wednesday-luncheon/
LOCATION:OK
END:VEVENT
END:VCALENDAR