BEGIN:VCALENDAR
VERSION:2.0
PRODID:-//Nichols Hills United Methodist Church - ECPv6.15.20//NONSGML v1.0//EN
CALSCALE:GREGORIAN
METHOD:PUBLISH
X-WR-CALNAME:Nichols Hills United Methodist Church
X-ORIGINAL-URL:https://nicholshillsumc.org
X-WR-CALDESC:Events for Nichols Hills United Methodist Church
REFRESH-INTERVAL;VALUE=DURATION:PT1H
X-Robots-Tag:noindex
X-PUBLISHED-TTL:PT1H
BEGIN:VTIMEZONE
TZID:UTC
BEGIN:STANDARD
TZOFFSETFROM:+0000
TZOFFSETTO:+0000
TZNAME:UTC
DTSTART:20150101T000000
END:STANDARD
END:VTIMEZONE
BEGIN:VEVENT
DTSTART;TZID=UTC:20160130T090000
DTEND;TZID=UTC:20160130T120000
DTSTAMP:20260421T092908
CREATED:20151013T004848Z
LAST-MODIFIED:20160113T224753Z
UID:10002139-1454144400-1454155200@nicholshillsumc.org
SUMMARY:Saturdays of Service
DESCRIPTION: We invite you to join us for our Saturday of Service from 9:00 a.m. to noon. \n          Please sign up by contacting Matt Patrick at 405-842-1486 or email at mpatrick@nicholshillsumc.org.
URL:https://nicholshillsumc.org/event/saturdays-of-service/
LOCATION:OK
END:VEVENT
END:VCALENDAR