BEGIN:VCALENDAR
VERSION:2.0
PRODID:-//Nichols Hills United Methodist Church - ECPv6.15.20//NONSGML v1.0//EN
CALSCALE:GREGORIAN
METHOD:PUBLISH
X-WR-CALNAME:Nichols Hills United Methodist Church
X-ORIGINAL-URL:https://nicholshillsumc.org
X-WR-CALDESC:Events for Nichols Hills United Methodist Church
REFRESH-INTERVAL;VALUE=DURATION:PT1H
X-Robots-Tag:noindex
X-PUBLISHED-TTL:PT1H
BEGIN:VTIMEZONE
TZID:UTC
BEGIN:STANDARD
TZOFFSETFROM:+0000
TZOFFSETTO:+0000
TZNAME:UTC
DTSTART:20190101T000000
END:STANDARD
END:VTIMEZONE
BEGIN:VEVENT
DTSTART;TZID=UTC:20200308T083000
DTEND;TZID=UTC:20200308T120000
DTSTAMP:20260423T083610
CREATED:20200114T005434Z
LAST-MODIFIED:20200114T005434Z
UID:10002647-1583656200-1583668800@nicholshillsumc.org
SUMMARY:Girl Scout Sunday
DESCRIPTION:
URL:https://nicholshillsumc.org/event/girl-scout-sunday/
LOCATION:OK
END:VEVENT
BEGIN:VEVENT
DTSTART;TZID=UTC:20200308T170000
DTEND;TZID=UTC:20200308T190000
DTSTAMP:20260423T083610
CREATED:20150730T223554Z
LAST-MODIFIED:20250117T171930Z
UID:10004787-1583686800-1583694000@nicholshillsumc.org
SUMMARY:Youth Group
DESCRIPTION:Join us for Youth at 5:00 p.m. on Sundays.
URL:https://nicholshillsumc.org/event/youth-group/2020-03-08/
LOCATION:OK
END:VEVENT
END:VCALENDAR