BEGIN:VCALENDAR
VERSION:2.0
PRODID:-//Nichols Hills United Methodist Church - ECPv6.15.20//NONSGML v1.0//EN
CALSCALE:GREGORIAN
METHOD:PUBLISH
X-WR-CALNAME:Nichols Hills United Methodist Church
X-ORIGINAL-URL:https://nicholshillsumc.org
X-WR-CALDESC:Events for Nichols Hills United Methodist Church
REFRESH-INTERVAL;VALUE=DURATION:PT1H
X-Robots-Tag:noindex
X-PUBLISHED-TTL:PT1H
BEGIN:VTIMEZONE
TZID:UTC
BEGIN:STANDARD
TZOFFSETFROM:+0000
TZOFFSETTO:+0000
TZNAME:UTC
DTSTART:20150101T000000
END:STANDARD
END:VTIMEZONE
BEGIN:VEVENT
DTSTART;TZID=UTC:20160501T183000
DTEND;TZID=UTC:20160501T193000
DTSTAMP:20260421T091426
CREATED:20160419T011231Z
LAST-MODIFIED:20160419T011252Z
UID:10002179-1462127400-1462131000@nicholshillsumc.org
SUMMARY:The Best of Broadway Fundraiser for the Chancel Choir
DESCRIPTION:The Best of Broadway Music Ministry Fundraiser –  Sunday\, May 1 at 6:30 p.m. in the Fellowship Hall \n         The Music Ministry of Nichols Hills United Methodist Church presents The Best of Broadway\, a musical review of Broadway’s hit choruses and solos. This elegant evening of dinner\, music\, fellowship\, and fun will raise funds for our music ministry and scholarship students. \nYou can sponsor a table\, which includes 8 tickets for dinner\, 8 tickets to The Best of Broadway show\, and table name recognition\, or you can purchase individual tickets. \nEncore Table Sponsorships are $1000. \nOvation Table Sponsorships are $500. \nIndividual tickets are $50 per person. \nTo reserve your seat\, call the church office\, 405-842-1486.
URL:https://nicholshillsumc.org/event/the-best-of-broadway-fundraiser-for-the-chancel-choir/
LOCATION:OK
END:VEVENT
END:VCALENDAR