BEGIN:VCALENDAR
VERSION:2.0
PRODID:-//Nichols Hills United Methodist Church - ECPv6.15.20//NONSGML v1.0//EN
CALSCALE:GREGORIAN
METHOD:PUBLISH
X-ORIGINAL-URL:https://nicholshillsumc.org
X-WR-CALDESC:Events for Nichols Hills United Methodist Church
REFRESH-INTERVAL;VALUE=DURATION:PT1H
X-Robots-Tag:noindex
X-PUBLISHED-TTL:PT1H
BEGIN:VTIMEZONE
TZID:UTC
BEGIN:STANDARD
TZOFFSETFROM:+0000
TZOFFSETTO:+0000
TZNAME:UTC
DTSTART:20140101T000000
END:STANDARD
END:VTIMEZONE
BEGIN:VEVENT
DTSTART;TZID=UTC:20151119T120000
DTEND;TZID=UTC:20151119T130000
DTSTAMP:20260421T143121
CREATED:20150527T223519Z
LAST-MODIFIED:20151103T030129Z
UID:10002097-1447934400-1447938000@nicholshillsumc.org
SUMMARY:Open Bible Study
DESCRIPTION:Join our Open Bible Study! We meet at noon in the Parlor on Thursdays.
URL:https://nicholshillsumc.org/event/open-bible-study-2/
LOCATION:Nichols Hills United Methodist Church\, 1212 Bedford Drive\, Nichols Hills\, OK\, 73116\, United States
END:VEVENT
END:VCALENDAR